BEGIN:VCALENDAR
VERSION:2.0
PRODID:-//ChamberMaster//Event Calendar 2.0//EN
METHOD:PUBLISH
X-PUBLISHED-TTL:P3D
REFRESH-INTERVAL:P3D
CALSCALE:GREGORIAN
BEGIN:VEVENT
DTSTART:20210525T210000Z
DTEND:20210525T223000Z
X-MICROSOFT-CDO-ALLDAYEVENT:FALSE
SUMMARY:Legal Considerations After a Diagnosis
DESCRIPTION:Have you heard myths about needing long-term care?  \n\n"The State will "take" my home."  Or\, "I can protect my assets by \n\nadding someone's name to them."  Maybe that "it's too late to do \n\nany planning if I already have a medical diagnosis\, or need long term care."\n\n \n\nJoin us for a FREE webinar to learn the FACTS.
X-ALT-DESC;FMTTYPE=text/html:<strong><span style="color:black"><span style="font-family:garamond"><span style="font-size:12.2pt">Have you heard myths about needing long-term care?&nbsp\; </span></span></span></strong><br />\n<span style="color:black"><span style="font-family:garamond"><span style="font-size:11.8pt">&ldquo\;The State will &ldquo\;take&rdquo\; my home.&rdquo\;&nbsp\; Or\, &ldquo\;I can protect my assets by </span></span></span><br />\n<span style="color:black"><span style="font-family:garamond"><span style="font-size:11.8pt">adding someone&rsquo\;s name to them.&rdquo\;&nbsp\; Maybe that &ldquo\;it&rsquo\;s too late to do </span></span></span><br />\n<span style="color:black"><span style="font-family:garamond"><span style="font-size:11.8pt">any planning if I already have a medical diagnosis\, or need long term care.&rdquo\;</span></span></span><br />\n&nbsp\;<br />\n<strong><span style="color:black"><span style="font-family:garamond"><span style="font-size:13.5pt">Join us for a </span></span></span></strong><u><span style="color:black"><span style="font-family:garamond"><span style="font-size:13.5pt">FREE</span></span></span></u><strong><span style="color:black"><span style="font-family:garamond"><span style="font-size:13.5pt"> webinar&nbsp\;</span></span></span></strong><strong><span style="color:black"><span style="font-family:garamond"><span style="font-size:13.5pt">to learn the </span></span></span></strong><u><span style="color:black"><span style="font-family:garamond"><span style="font-size:13.5pt">FACTS</span></span></span></u><strong><span style="color:black"><span style="font-family:garamond"><span style="font-size:13.5pt">.</span></span></span></strong><br />\n<br />\n&nbsp\;
LOCATION:FREE webinar\, registration required. Click here to register - https://attendee.gotowebinar.com/register/8151544324353311247 OR email Meagan at MLS@pwwlaw.com
UID:e.2126.22018
SEQUENCE:3
DTSTAMP:20260424T203816Z
URL:http://business.thequietresorts.com/events/details/legal-considerations-after-a-diagnosis-22018
END:VEVENT

END:VCALENDAR
