BEGIN:VCALENDAR
VERSION:2.0
PRODID:-//ChamberMaster//Event Calendar 2.0//EN
METHOD:PUBLISH
X-PUBLISHED-TTL:P3D
REFRESH-INTERVAL:P3D
CALSCALE:GREGORIAN
BEGIN:VEVENT
DTSTART:20211116T200000Z
DTEND:20211116T210000Z
X-MICROSOFT-CDO-ALLDAYEVENT:FALSE
SUMMARY:Legacy and Estate Planning Event
DESCRIPTION:New administration\, a lot of proposed changes coming. Billy Scott of Scott and Shuman will go over those changes and how to best prepare. As always Billy Scott will deliver an up to date\, actionable presentation that everyone can benefit from. Should you have a will or Trust? What kind of Trust is best for you and your family?\n\nMichael will deliver the latest updates on the current cycle\, how it's affecting the markets and more importantly\, your investments. He'll also discuss the impact of proposed tax and estate changes and how you should prepare.\n\nThe event is open to the public. Call or Email to grab your spot today!
X-ALT-DESC;FMTTYPE=text/html:<div>\n<div>\n<div>\n<div>\n<p><span style="font-size:14px\;"><span style="font-family:arial\;">New administration\, a lot of proposed changes coming. Billy Scott of Scott and Shuman will go over those changes and how to best prepare. As always Billy Scott will deliver an up to date\, actionable presentation that everyone can benefit from. Should you have a will or Trust? What kind of Trust is best for you and your family?</span></span></p>\n\n<p><span style="font-size:14px\;"><span style="font-family:arial\;">Michael will deliver the latest updates on the current cycle\, how it&#39\;s affecting the markets and more importantly\, your investments. He&#39\;ll also discuss the impact of proposed tax and estate changes and how you should prepare.</span></span></p>\n\n<p><span style="font-size:14px\;"><span style="font-family:arial\;">The event is open to the public. Call or Email to grab your spot today!</span></span></p>\n</div>\n</div>\n</div>\n</div>\n
LOCATION:This is an online event. Via Zoom
UID:e.2126.23096
SEQUENCE:3
DTSTAMP:20260424T102352Z
URL:http://business.thequietresorts.com/events/details/legacy-and-estate-planning-event-23096
END:VEVENT

END:VCALENDAR
