BEGIN:VCALENDAR
VERSION:2.0
PRODID:-//ChamberMaster//Event Calendar 2.0//EN
METHOD:PUBLISH
X-PUBLISHED-TTL:P3D
REFRESH-INTERVAL:P3D
CALSCALE:GREGORIAN
BEGIN:VEVENT
DTSTART:20200712T000000Z
DTEND:20200712T020000Z
X-MICROSOFT-CDO-ALLDAYEVENT:FALSE
SUMMARY:Lauren Glick Band
DESCRIPTION:Known as a popular local musician\, Lauren became serious about music in college where she attended Berklee College of Music. She studied under the best vocal coaches and obtained a Bachelor of Music degree in Film Scoring. She also studied bass guitar which was inspired by her most influential musician Amiee Mann from the group Til Tuesday. She is influenced by many other greats such as Tori Amos\, Kate Bush\, Janis Joplin\, Robert Plant\, Alicia Keys\, Anne Wilson\, Carole King\, Carley Simon\, Joni Mitchell and Fleetwood Mac to name a few. Lauren began singing at age 10 when she discovered the Broadway show\, "Anne". She also grew up with the sounds of Heart and Pat Benetar\, which she still loves performing today. Lauren also has three CD's out\, Eternity\, Love Triangles and Keep on Moving. With her soulful style and her heartfelt lyrics\, you won't want to miss out on hearing these!
X-ALT-DESC;FMTTYPE=text/html:<span style="font-family: arial\;"><span style="font-size: 14px\;">Known as a popular local musician\, Lauren became serious about music in college where she attended Berklee College of Music. She studied under the best vocal coaches and obtained a Bachelor of Music degree in Film Scoring. She also studied bass guitar which was inspired by her most influential musician Amiee Mann from the group Til Tuesday. She is influenced by many other greats such as Tori Amos\, Kate Bush\, Janis Joplin\, Robert Plant\, Alicia Keys\, Anne Wilson\, Carole King\, Carley Simon\, Joni Mitchell and Fleetwood Mac to name a few. Lauren began singing at age 10 when she discovered the Broadway show\, &quot\;Anne&quot\;. She also grew up with the sounds of Heart and Pat Benetar\, which she still loves performing today. Lauren also has three CD&#39\;s out\, Eternity\, Love Triangles and Keep on Moving. With her soulful style and her heartfelt lyrics\, you won&#39\;t want to miss out on hearing these!</span></span>
LOCATION:The Freeman Stage 31750 Lake View Drive Selbyville\, DE 19975
UID:e.2126.21689
SEQUENCE:3
DTSTAMP:20260425T163027Z
URL:http://business.thequietresorts.com/events/details/lauren-glick-band-21689
END:VEVENT

END:VCALENDAR
