BEGIN:VCALENDAR
VERSION:2.0
PRODID:-//ChamberMaster//Event Calendar 2.0//EN
METHOD:PUBLISH
X-PUBLISHED-TTL:P3D
REFRESH-INTERVAL:P3D
CALSCALE:GREGORIAN
BEGIN:VEVENT
DTSTART:20230225T190000Z
DTEND:20230225T230000Z
X-MICROSOFT-CDO-ALLDAYEVENT:FALSE
SUMMARY:Latino Business Expo: Delaware Alliance of Latino Entrepreneurs
DESCRIPTION:The first Latino Business and Community Expo will be held on February 25th at Cape Henlopen High School\, bringing together Latino business owners\, local residents\, and community partners for a celebration of Delaware's cultural diversity and entrepreneurial spirit.\n\n\n\nInterested entrepreneurs can register online.\n\n\n\n"Delaware's Latino-owned businesses offer an amazing array of products and services to residents of Sussex County\," said Mary Dupont\, Executive Director of La Plaza Delaware. "From local restaurants to skilled contractors who specialize in finely crafted porches\, kitchens\, bathrooms\, handyman services\, plumbing\, electric\, painting\, custom tailoring\, cleaning\, and much more\, the excellence of our community will be showcased at this great event."\n\n\n\nThe event is free to the public and includes delicious Central American cuisine prepared onsite\, live music by the Ecuadorian group featuring Carlos Erazo on pan flute\, speeches by dignitaries\, and most importantly\, Delaware's finest Latino-owned businesses. More information is available at www.daledelaware.org\n\n\n\nThe event is organized by the Delaware Alliance of Latino Entrepreneurs (DALE)\, a new organization devoted to strengthening and supporting the Latino business community\, and La Plaza Delaware\, a non profit partnership working to boost Latino and minority-owned businesses. \n\n\n\nDon't miss the opportunity to meet your neighbors\, celebrate diversity\, and enjoy an afternoon of networking\, food\, music\, and connections. For more information\, visit: laplazadelaware.org or daledelaware.org
X-ALT-DESC;FMTTYPE=text/html:The first Latino Business and Community Expo will be held on February 25th at Cape Henlopen High School\, bringing together Latino business owners\, local residents\, and community partners for a celebration of Delaware&#39\;s cultural diversity and entrepreneurial spirit.<br />\n<br />\n<strong>Interested entrepreneurs can <a href="https://daledelaware.org/">register online</a>.</strong><br />\n<br />\n&quot\;Delaware&#39\;s Latino-owned businesses offer an amazing array of products and services to residents of Sussex County\,&quot\; said Mary Dupont\, Executive Director of La Plaza Delaware. &quot\;From local restaurants to skilled contractors who specialize in finely crafted porches\, kitchens\, bathrooms\, handyman services\, plumbing\, electric\, painting\, custom tailoring\, cleaning\, and much more\, the excellence of our community will be showcased at this great event.&quot\;<br />\n<br />\nThe event is free to the public and includes delicious Central American cuisine prepared onsite\, live music by the Ecuadorian group featuring Carlos Erazo on pan flute\, speeches by dignitaries\, and most importantly\, Delaware&#39\;s finest Latino-owned businesses. More information is available at <a href="http://www.daledelaware.org">www.daledelaware.org</a><br />\n<br />\nThe event is organized by the Delaware Alliance of Latino Entrepreneurs (DALE)\, a new organization devoted to strengthening and supporting the Latino business community\, and La Plaza Delaware\, a non profit partnership working to boost Latino and minority-owned businesses.&nbsp\;<br />\n<br />\nDon&#39\;t miss the opportunity to meet your neighbors\, celebrate diversity\, and enjoy an afternoon of networking\, food\, music\, and connections. For more information\, visit: <a href="http://laplazadelaware.org">laplazadelaware.org</a>&nbsp\;or <a href="http://daledelaware.org">daledelaware.org</a>
LOCATION:Cape Henlopen High School 1250 Kings Hwy Lewes\, DE 19958
UID:e.2126.25145
SEQUENCE:3
DTSTAMP:20260421T075126Z
URL:http://business.thequietresorts.com/events/details/latino-business-expo-delaware-alliance-of-latino-entrepreneurs-25145
END:VEVENT

END:VCALENDAR
