BEGIN:VCALENDAR
VERSION:2.0
PRODID:-//ChamberMaster//Event Calendar 2.0//EN
METHOD:PUBLISH
X-PUBLISHED-TTL:P3D
REFRESH-INTERVAL:P3D
CALSCALE:GREGORIAN
BEGIN:VEVENT
DTSTART;VALUE=DATE:20231222
DTEND;VALUE=DATE:20240102
TRANSP:TRANSPARENT
X-MICROSOFT-CDO-ALLDAYEVENT:TRUE
SUMMARY:Last Minute Holiday Gifts from Alni Body Care\, Local Pick-Up & Local Delivery!
DESCRIPTION:Last Minute Holiday Gifts from Alni Body Care\, Local Pick-Up & Local Delivery!\n\n\n\nNeed gift ideas? Read the 2023 Holiday Gift Guide Blog
X-ALT-DESC;FMTTYPE=text/html:<h1><span style="font-family:times new roman"><strong>Last Minute Holiday Gifts from Alni Body Care\, Local Pick-Up &amp\; Local Delivery!</strong><br />\n<br />\n<em>Need gift ideas? Read the</em> <a href="https://www.alnibodycare.com/blogs/alnibodycareblog/2023-holiday-gift-guide">2023 Holiday Gift Guide Blog</a>&nbsp\;</span></h1>\n
LOCATION:www.alnibodycare.com Ocean View\, DE
UID:e.2126.27411
SEQUENCE:3
DTSTAMP:20260420T135504Z
URL:http://business.thequietresorts.com/events/details/last-minute-holiday-gifts-from-alni-body-care-local-pick-up-local-delivery-27411
END:VEVENT

END:VCALENDAR
