BEGIN:VCALENDAR
VERSION:2.0
PRODID:-//ChamberMaster//Event Calendar 2.0//EN
METHOD:PUBLISH
X-PUBLISHED-TTL:P3D
REFRESH-INTERVAL:P3D
CALSCALE:GREGORIAN
BEGIN:VEVENT
DTSTART:20210812T233000Z
DTEND:20210813T010000Z
X-MICROSOFT-CDO-ALLDAYEVENT:FALSE
SUMMARY:Larger Than Life
DESCRIPTION:"The Ultimate Boyband Tribute\," this NY act is the only act of its kind featuring actual boyband singing\, dancing\, costumes\, and that pop look.  This '90s party features songs by popular boybands like NSYNC\, the Backstreet Boys\, and 98 Degrees but it also goes back even further to pay tribute to The Jackson 5\, The Temptations\, and The Four Seasons. www.wearelargerthanlife.com
X-ALT-DESC;FMTTYPE=text/html:<span style="background-color:rgba(255\, 255\, 255\, 0.95)\; color:rgb(68\, 68\, 68)\; font-family:arial\; font-size:14.4px">&ldquo\;The Ultimate Boyband Tribute\,&rdquo\; this NY act is the only act of its kind featuring actual boyband singing\, dancing\, costumes\, and that pop look. &nbsp\;This &lsquo\;90s party features songs by popular boybands like NSYNC\, the Backstreet Boys\, and 98 Degrees but it also goes back even further to pay tribute to The Jackson 5\, The Temptations\, and The Four Seasons. www.wearelargerthanlife.com</span>
LOCATION:Bethany Beach Bandstand Garfield Parkway & Boardwalk\, Bethany Beach
UID:e.2126.22575
SEQUENCE:3
DTSTAMP:20260424T153007Z
URL:http://business.thequietresorts.com/events/details/larger-than-life-22575
END:VEVENT

END:VCALENDAR
