BEGIN:VCALENDAR
VERSION:2.0
PRODID:-//ChamberMaster//Event Calendar 2.0//EN
METHOD:PUBLISH
X-PUBLISHED-TTL:P3D
REFRESH-INTERVAL:P3D
CALSCALE:GREGORIAN
BEGIN:VEVENT
DTSTART:20221008T100000Z
DTEND:20221008T113000Z
X-MICROSOFT-CDO-ALLDAYEVENT:FALSE
SUMMARY:Larger Than Life
DESCRIPTION:"The Ultimate Boyband Tribute\," this NY act is the only act of its kind featuring actual boyband singing\, dancing\, costumes\, and that pop look.  This '90s party features songs by popular boybands like NSYNC\, the Backstreet Boys\, and 98 Degrees but it also goes back even further to pay tribute to The Jackson 5\, The Temptations\, and The Four Seasons.
X-ALT-DESC;FMTTYPE=text/html:&ldquo\;The Ultimate Boyband Tribute\,&rdquo\; this NY act is the only act of its kind featuring actual boyband singing\, dancing\, costumes\, and that pop look. &nbsp\;This &lsquo\;90s party features songs by popular boybands like NSYNC\, the Backstreet Boys\, and 98 Degrees but it also goes back even further to pay tribute to The Jackson 5\, The Temptations\, and The Four Seasons. &nbsp\;
LOCATION:Bethany Beach Bandstand
UID:e.2126.24040
SEQUENCE:3
DTSTAMP:20260421T160718Z
URL:http://business.thequietresorts.com/events/details/larger-than-life-10-08-2022-24040
END:VEVENT

END:VCALENDAR
