BEGIN:VCALENDAR
VERSION:2.0
PRODID:-//ChamberMaster//Event Calendar 2.0//EN
METHOD:PUBLISH
X-PUBLISHED-TTL:P3D
REFRESH-INTERVAL:P3D
CALSCALE:GREGORIAN
BEGIN:VEVENT
DTSTART:20230831T233000Z
DTEND:20230901T010000Z
X-MICROSOFT-CDO-ALLDAYEVENT:FALSE
SUMMARY:Larger Than Life
DESCRIPTION:America's #1 Boyband Experience. This act originally started in New York and has taken the country by storm.  This is the only act of it's kind featuring actual boyband singing\, dancing\, costumes and that pop look. Larger Than Life will take you back in time with the biggest 90s Party since the Backstreet Boys shut down Times Square.  Not a jam band\, not a parody\, this is the real deal Boyband Experience!  Performing over 40 Boyband songs by the Backstreet Boys\, NSYNC\, New Kids On The Block\, 98 Degrees\, O-Town\, Boyz II Men\, LFO\, One Direction and many more! And for extra fun the boyz take us even way back with hits by The Jackson 5\, Temptations\, Four Seasons and other classic male groups truly making this The Ultimate Boyband Tribute!
X-ALT-DESC;FMTTYPE=text/html:<div style="text-align:start">America&#39\;s #1 Boyband Experience. This act originally started in New York and has taken the country by storm. &nbsp\;This is the only act of it&rsquo\;s kind featuring actual boyband singing\, dancing\, costumes and that pop look. Larger Than Life will take you back in time with the biggest 90s Party since the Backstreet Boys shut down Times Square. &nbsp\;Not a jam band\, not a parody\, this is the real deal Boyband Experience!&nbsp\; Performing over 40 Boyband songs by the Backstreet Boys\, NSYNC\, New Kids On The Block\, 98 Degrees\, O-Town\, Boyz II Men\, LFO\, One Direction and many more! And for extra fun the boyz take us even way back with hits by The Jackson 5\, Temptations\, Four Seasons and other classic male groups truly making this The Ultimate Boyband Tribute!</div>\n
LOCATION:Bethany Beach Bandstand
UID:e.2126.26413
SEQUENCE:3
DTSTAMP:20260420T214152Z
URL:http://business.thequietresorts.com/events/details/larger-than-life-08-31-2023-26413
END:VEVENT

END:VCALENDAR
