BEGIN:VCALENDAR
VERSION:2.0
PRODID:-//ChamberMaster//Event Calendar 2.0//EN
METHOD:PUBLISH
X-PUBLISHED-TTL:P3D
REFRESH-INTERVAL:P3D
CALSCALE:GREGORIAN
BEGIN:VEVENT
DTSTART:20240630T160000Z
DTEND:20240630T183000Z
X-MICROSOFT-CDO-ALLDAYEVENT:FALSE
SUMMARY:Ladies Only Psychic Parlour Party
DESCRIPTION:Jon Stetson will guide you on a journey into the worlds of both Psyche & Spirit. It's fun to get a psychic reading\, but it's more fun to learn that YOU'RE psychic too! The "Ladies Only Psychic Party" is a fun-filled experience where we will Live\, Love\, Laugh\, and Learn! You will be enthralled by new demonstrations of Jon's unique brand of psychic entertainment. However\, that is just the beginning! You will be enthralled as Jon guides you on a journey through the veil into the world of both psychic and spirit! You will be empowered to understand and further develop your psychic skills. Participants will\, indeed\, amaze themselves and discover their unlimited potential. Jon will introduce you to "The Jewel\," awakening your intuition. It is his secret to happiness and the key to unlimited energy! The event will conclude with a seldom-seen demonstration of "Crystal Gazing" Gallery reading! Join us for an unforgettable program of psychic fun. Together we will create wonderful memories that will last a lifetime.
X-ALT-DESC;FMTTYPE=text/html:<span style="color:rgb(108\, 117\, 125)\; font-family:helvetica\,arial\,sans-serif">Jon Stetson will guide you on a journey into the worlds of both Psyche &amp\; Spirit. It&#39\;s fun to get a psychic reading\, but it&#39\;s more fun to learn that YOU&#39\;RE psychic too! The &quot\;Ladies Only Psychic Party&quot\; is a fun-filled experience where we will Live\, Love\, Laugh\, and Learn! You will be enthralled by new demonstrations of Jon&#39\;s unique brand of psychic entertainment. However\, that is just the beginning! You will be enthralled as Jon guides you on a journey through the veil into the world of both psychic and spirit! You will be empowered to understand and further develop your psychic skills. Participants will\, indeed\, amaze themselves and discover their unlimited potential. Jon will introduce you to &quot\;The Jewel\,&quot\; awakening your intuition. It is his secret to happiness and the key to unlimited energy! The event will conclude with a seldom-seen demonstration of &quot\;Crystal Gazing&quot\; Gallery reading! Join us for an unforgettable program of psychic fun. Together we will create wonderful memories that will last a lifetime.</span>
LOCATION:Dickens Parlour Theatre 31810 Good Earth Lane Ocean View\, DE 19970
UID:e.2126.30158
SEQUENCE:3
DTSTAMP:20260420T105738Z
URL:http://business.thequietresorts.com/events/details/ladies-only-psychic-parlour-party-30158
END:VEVENT

END:VCALENDAR
