BEGIN:VCALENDAR
VERSION:2.0
PRODID:-//ChamberMaster//Event Calendar 2.0//EN
METHOD:PUBLISH
X-PUBLISHED-TTL:P3D
REFRESH-INTERVAL:P3D
CALSCALE:GREGORIAN
BEGIN:VEVENT
DTSTART:20230902T220000Z
DTEND:20230903T000000Z
X-MICROSOFT-CDO-ALLDAYEVENT:FALSE
SUMMARY:Labor Day Festivities at John West Park
DESCRIPTION:Join the Town of Ocean View for a free end of summer concert with the Hot Sauce Band covering multi generational popular music with a unique\, spicy flair. What is the sound like?  Imagine the music of Herb Alpert\, Gipsy Kings\, Sergio Mendes\, and Spaghetti Western (Clint Eastwood) Movies.  The instrumentation is also novel and unique- Marimba\, Castanets\, Horns\, Nylon String Flamenco Guitars\, and Melodica\, all with lush vocal harmonies.\n\n\n\nOther entertainment\, activities\, and food include:\n\n	The VFW Post 7234 Color Guard presenting volleys and taps at 6 PM\n	Boy Scout Troop 281 selling hot dogs\, burgers and apple pies \n	Water ice & American Flag handouts\n	Patriotic photo ops & bubbles\n\n Join us on Saturday to kick off your Labor Day Weekend Celebrations!
X-ALT-DESC;FMTTYPE=text/html:<span style="font-size:14px\;">Join the Town of Ocean View for a free end of summer concert with t<span style="color: rgb(0\, 0\, 0)\; background-color: transparent\;">he Hot Sauce Band</span><span style="color: rgb(0\, 0\, 0)\; background-color: transparent\;"> covering multi generational popular music with a unique\, spicy flair.&nbsp\;</span><span style="color: rgb(0\, 0\, 0)\;">What is the sound like?&nbsp\; Imagine the music of Herb Alpert\, Gipsy Kings\, Sergio Mendes\, and Spaghetti Western (Clint Eastwood) Movies.&nbsp\; The instrumentation is also novel and unique- Marimba\, Castanets\, Horns\, Nylon String Flamenco Guitars\, and Melodica\, all with lush vocal harmonies.<br />\n<br />\nOther entertainment\, activities\, and food include:</span></span>\n<ul>\n	<li><span style="font-size:14px\;">The VFW Post 7234 Color Guard presenting volleys and taps at 6 PM</span></li>\n	<li><span style="font-size:14px\;">Boy Scout Troop 281 selling&nbsp\;hot dogs\, burgers and apple pies&nbsp\;</span></li>\n	<li><span style="font-size:14px\;">Water ice &amp\; American Flag handouts</span></li>\n	<li><span style="font-size:14px\;">Patriotic photo ops &amp\; bubbles</span></li>\n</ul>\n<span style="font-size:14px\;"><span style="font-size:14px\;">&#8203\;Join us on Saturday to kick off your Labor Day Weekend Celebrations!</span></span>
LOCATION:John West Park 32 West Ave. Ocean View\, DE 19970
UID:e.2126.26604
SEQUENCE:3
DTSTAMP:20260420T195652Z
URL:http://business.thequietresorts.com/events/details/labor-day-festivities-at-john-west-park-26604
END:VEVENT

END:VCALENDAR
