BEGIN:VCALENDAR
VERSION:2.0
PRODID:-//ChamberMaster//Event Calendar 2.0//EN
METHOD:PUBLISH
X-PUBLISHED-TTL:P3D
REFRESH-INTERVAL:P3D
CALSCALE:GREGORIAN
BEGIN:VEVENT
DTSTART:20230825T120000Z
DTEND:20230825T180000Z
X-MICROSOFT-CDO-ALLDAYEVENT:FALSE
SUMMARY:Kristina's Cakery Outdoor Vendor Event\, Shop Local!
DESCRIPTION:Outdoor Shop Local Vendor Event at Kristina's Cakery!\n\nfeaturing local artisans selling their handmade wares! \n\n\n\nAlni Body Care LLC \n\nConscious Knot \n\nSandy Bottom Candles \n\nPortraits & Beach Resin Art by George Todd\n\nBagel Bums\n\nPegandi Crystals & Art\n\nTaylor Family Farm\n\n\n\n\n\nWhen: Friday\, August 25 from 8am-2pm (during the Cakery operating hours)*\n\nNibble on some yummy fresh-baked goods while shopping local artists! \n\n*Weather permitting.  No Rain Date.  Vendor Spots are full.\n\nWhere: 32828 Reba Rd. Suite C. Millville\, DE 19967 (at the stop light by Cedar & Central Ave.)
X-ALT-DESC;FMTTYPE=text/html:<h1><span style="font-family:times new roman"><span style="color:#800080">Outdoor Shop Local Vendor Event at Kristina&#39\;s Cakery!</span></span></h1>\n\n<p><span style="font-family:times new roman"><strong>featuring local artisans selling their handmade wares!&nbsp\;</strong><br />\n<br />\n<a href="https://www.alnibodycare.com/">Alni Body Care LLC&nbsp\;</a><br />\nConscious Knot&nbsp\;<br />\nSandy Bottom Candles&nbsp\;<br />\n<a href="https://www.artbygeorgetodd.com/home">Portraits &amp\; Beach Resin Art by George Todd</a><br />\nBagel Bums<br />\nPegandi Crystals &amp\; Art<br />\nTaylor Family Farm<br />\n<br />\n<br />\nWhen: Friday\, August 25 from 8am-2pm (during the Cakery operating hours)*<br />\nNibble on some yummy fresh-baked goods while shopping local artists!&nbsp\;<br />\n<em>*Weather permitting.&nbsp\; No Rain Date.&nbsp\; Vendor Spots are full.</em></span></p>\n\n<p><strong><span style="font-family:times new roman">Where: 32828 Reba Rd. Suite C. Millville\, DE 19967 (at the stop light by Cedar &amp\; Central Ave.)</span></strong><br />\n&nbsp\;</p>\n
LOCATION:Kristina's Cakery 32828 Reba Rd. Suite C Millville\, DE 19967 (behind Giant at the stop light by Central Ave. & Cedar)
UID:e.2126.26503
SEQUENCE:3
DTSTAMP:20260420T230819Z
URL:http://business.thequietresorts.com/events/details/kristina-s-cakery-outdoor-vendor-event-shop-local-26503
END:VEVENT

END:VCALENDAR
