BEGIN:VCALENDAR
VERSION:2.0
PRODID:-//ChamberMaster//Event Calendar 2.0//EN
METHOD:PUBLISH
X-PUBLISHED-TTL:P3D
REFRESH-INTERVAL:P3D
CALSCALE:GREGORIAN
BEGIN:VEVENT
DTSTART:20230425T200000Z
DTEND:20230425T210000Z
X-MICROSOFT-CDO-ALLDAYEVENT:FALSE
SUMMARY:Kristina's Cakery Grand Opening & Ribbon Cutting
DESCRIPTION:Join the Chamber staff in celebrating the Grand Opening of Kristina's Cakery with a ribbon cutting on Tuseday\, April 25\, 2023!  The celebration begins at 4:00pm\, with the ribbon to be cut at 4:30pm.  Refreshments will be provided by the Cakery's sister company\, Kristina's Kitchen!
X-ALT-DESC;FMTTYPE=text/html:<span style="color: rgb(51\, 51\, 51)\; font-family: sans-serif\, Arial\, Verdana\, &quot\;Trebuchet MS&quot\;\; font-size: 13px\; background-color: rgb(255\, 255\, 255)\;">Join the Chamber staff in celebrating the Grand Opening of Kristina&#39\;s Cakery with a ribbon cutting on Tuseday\, April 25\, 2023!&nbsp\; The celebration begins at 4:00pm\, with the ribbon to be cut at 4:30pm.&nbsp\; Refreshments will be provided by the Cakery&#39\;s sister company\, Kristina&#39\;s Kitchen!</span><br />\n&nbsp\;
LOCATION:Kristina's Cakery 32828 Reba Rd. Ste. C Millville DE 19967
UID:e.2126.25357
SEQUENCE:3
DTSTAMP:20260421T055436Z
URL:http://business.thequietresorts.com/events/details/kristina-s-cakery-grand-opening-ribbon-cutting-25357
END:VEVENT

END:VCALENDAR
