BEGIN:VCALENDAR
VERSION:2.0
PRODID:-//ChamberMaster//Event Calendar 2.0//EN
METHOD:PUBLISH
X-PUBLISHED-TTL:P3D
REFRESH-INTERVAL:P3D
CALSCALE:GREGORIAN
BEGIN:VEVENT
DTSTART:20200829T140000Z
DTEND:20200829T150000Z
X-MICROSOFT-CDO-ALLDAYEVENT:FALSE
SUMMARY:Kool Beans - The Amazing Panda Experience
DESCRIPTION:The Amazing Panda Experience is an interactive\, educational look into the life of a Giant Panda and baby panda.
X-ALT-DESC;FMTTYPE=text/html:<span style="font-size: 14px\;"><span style="font-family: arial\;">The Amazing Panda Experience is an interactive\, educational look into the life of a Giant Panda and baby panda.</span></span>
LOCATION:The Freeman Stage 31750 Lake View Drive Selbyville\, DE 19975
UID:e.2126.21743
SEQUENCE:3
DTSTAMP:20260425T144943Z
URL:http://business.thequietresorts.com/events/details/kool-beans-the-amazing-panda-experience-21743
END:VEVENT

END:VCALENDAR
