BEGIN:VCALENDAR
VERSION:2.0
PRODID:-//ChamberMaster//Event Calendar 2.0//EN
METHOD:PUBLISH
X-PUBLISHED-TTL:P3D
REFRESH-INTERVAL:P3D
CALSCALE:GREGORIAN
BEGIN:VEVENT
DTSTART:20191213T220000Z
DTEND:20191214T010000Z
X-MICROSOFT-CDO-ALLDAYEVENT:FALSE
SUMMARY:Kids Night Out/Parents Night Off
DESCRIPTION:Friday\, December 13\n\n5PM - 8PM\n\n\n\nSt. Matthews By the Sea\, UMC\n\n1000 Coastal Highway\, Fenwick Island\, DE 19944\n\n\n\nAges 3* to 12 Years Old\n\n*Minimum age must be potty trained please\n\n\n\nFree Movie and Pizza\n\n\n\n*Santa's Work Shop*\n\n(Kids can go shopping for family\, each item $1 or less)\n\n\n\n*Kids Friendly Crafts*\n\n\n\nGift Wrapping Services Available! BYOP\n\n(Bring your own paper & supplies)\n\n(Packages need to be dropped off by 6 PM to have ready by 8 PM pick up)\n\n\n\nParents\n\nHave fun at a Christmas Party\n\nStart or finish your holiday Shopping\n\nSpecial offers from:\n\nTidepool Toys & Games: Get 15% off from 5 - 8 PM\n\nPottery Place: 20% off and sips & snacks at their caf  area!\n\n\n\nEnjoy a pre-holiday date night\n\nOne Coastal Farm & Kitchen is offering a 10% off your dining experience\n\n\n\nSpots are limited\, kindly register your kids now at smbts@verizon.net by 12/9/19\n\nKids registration information
X-ALT-DESC;FMTTYPE=text/html:<div style="text-align: center\;"><span style="font-family: arial\;"><span style="font-size: 16px\;"><span style="color: rgb(0\, 128\, 0)\;">Friday\, December 13<br />\n5PM - 8PM<br />\n<br />\nSt. Matthews By the Sea\, UMC</span><br />\n<span style="font-size: 14px\;"><span style="color: rgb(0\, 128\, 0)\;">1000 Coastal Highway\, Fenwick Island\, DE 19944</span><br />\n<br />\n<span style="font-size: 16px\;"><span style="color: rgb(0\, 128\, 0)\;">Ages 3* to 12 Years Old</span><br />\n<span style="font-size: 14px\;"><span style="color: rgb(0\, 128\, 0)\;">*Minimum age must be potty trained please</span><br />\n<br />\n<span style="font-size: 16px\;"><span style="color: rgb(0\, 128\, 0)\;">Free Movie and Pizza<br />\n<br />\n*Santa&#39\;s Work Shop*<br />\n(</span><span style="font-size: 14px\;"><span style="color: rgb(0\, 128\, 0)\;">Kids can go shopping for family\, each item $1 or less)</span><br />\n<br />\n<span style="font-size: 16px\;"><span style="color: rgb(0\, 128\, 0)\;">*Kids Friendly Crafts*</span><br />\n<br />\n<span style="color: rgb(255\, 0\, 0)\;">Gift Wrapping Services Available! BYOP</span><br />\n<span style="font-size: 14px\;"><span style="color: rgb(0\, 128\, 0)\;">(Bring your own paper &amp\; supplies)<br />\n(Packages need to be dropped off by 6 PM to have ready by 8 PM pick up)</span><br />\n<br />\n<span style="font-size: 16px\;"><span style="color: rgb(255\, 0\, 0)\;">Parents</span><br />\n<span style="color: rgb(0\, 128\, 0)\;">Have fun at a Christmas Party</span><br />\n<span style="color: rgb(255\, 0\, 0)\;">Start or finish your holiday Shopping</span><br />\n<span style="font-size: 14px\;"><span style="color: rgb(0\, 128\, 0)\;">Special offers from:<br />\nTidepool Toys &amp\; Games: Get 15% off from 5 - 8 PM<br />\nPottery Place: 20% off and sips &amp\; snacks at their caf&eacute\; area!</span><br />\n<br />\n<span style="font-size: 16px\;"><span style="color: rgb(255\, 0\, 0)\;">Enjoy a pre-holiday date night</span><br />\n<span style="font-size: 14px\;"><span style="color: rgb(0\, 128\, 0)\;">One Coastal Farm &amp\; Kitchen is offering a 10% off your dining experience</span><br />\n<br />\n<font color="#ff0000" size="3">Spots are limited\, kindly register your kids now at </font><a href="mailto:smbts@verizon.net"><font color="#ff0000" size="3">smbts@verizon.net</font></a></span></span></span></span></span></span></span></span></span></span></span></span><font color="#ff0000" size="3"> by 12/9/19</font></span><br />\n<a href="https://chambermaster.blob.core.windows.net/userfiles/UserFiles/chambers/2126/File/Community_Events/KNOPNORegistration.pdf" target="_blank"><font size="3">Kids registration information</font></a></div>\n
LOCATION:St. Matthews By The Sea\, UMC 1000 Coastal Hwy Fenwick Island\, DE 19944
UID:e.2126.19455
SEQUENCE:3
DTSTAMP:20260426T034534Z
URL:http://business.thequietresorts.com/events/details/kids-night-out-parents-night-off-19455
END:VEVENT

END:VCALENDAR
