BEGIN:VCALENDAR
VERSION:2.0
PRODID:-//ChamberMaster//Event Calendar 2.0//EN
METHOD:PUBLISH
X-PUBLISHED-TTL:P3D
REFRESH-INTERVAL:P3D
CALSCALE:GREGORIAN
BEGIN:VEVENT
DTSTART:20240620T140000Z
DTEND:20240620T160000Z
X-MICROSOFT-CDO-ALLDAYEVENT:FALSE
SUMMARY:Kids Day: Outstanding Oysters at Delaware Center for the Inland Bays
DESCRIPTION:Learn all about nature's "ecosystem engineers" while getting your hands and feet wet in the Bay! For more info\, contact Maddie Fox at mfox@inlandbays.org. Don't forget to register: https://www.eventbrite.com/e/outstanding-oysters-tickets-899207522907?aff=erelpanelorg
X-ALT-DESC;FMTTYPE=text/html:Learn all about nature&#39\;s &quot\;ecosystem engineers&quot\; while getting your hands and feet wet in the Bay! For more info\, contact Maddie Fox at mfox@inlandbays.org. Don&#39\;t forget to register:&nbsp\;<a href="https://www.eventbrite.com/e/outstanding-oysters-tickets-899207522907?aff=erelpanelorg">https://www.eventbrite.com/e/outstanding-oysters-tickets-899207522907?aff=erelpanelorg</a>
LOCATION:James Farm Ecological Preserve 30048 Cedar Neck Road Ocean View\, DE 19970
UID:e.2126.30110
SEQUENCE:3
DTSTAMP:20260420T091652Z
URL:http://business.thequietresorts.com/events/details/kids-day-outstanding-oysters-at-delaware-center-for-the-inland-bays-30110
END:VEVENT

END:VCALENDAR
