BEGIN:VCALENDAR
VERSION:2.0
PRODID:-//ChamberMaster//Event Calendar 2.0//EN
METHOD:PUBLISH
X-PUBLISHED-TTL:P3D
REFRESH-INTERVAL:P3D
CALSCALE:GREGORIAN
BEGIN:VEVENT
DTSTART:20240628T140000Z
DTEND:20240628T160000Z
X-MICROSOFT-CDO-ALLDAYEVENT:FALSE
SUMMARY:Kids Day: FiNtastic Fish at Delaware Center for the Inland Bays
DESCRIPTION:Fish here\, fish there\, fish everywhere! Come learn about the different forage fish we see in the Inland Bays! For more info\, contact Maddie Fox at mfox@inlandbays.org. Don't forget to register: https://www.eventbrite.com/e/fintastic-fish-tickets-637374332787?aff=ebdsoporgprofile
X-ALT-DESC;FMTTYPE=text/html:Fish here\, fish there\, fish everywhere! Come learn about the different forage fish we see in the Inland Bays! For more info\, contact Maddie Fox at mfox@inlandbays.org. Don&#39\;t forget to register:&nbsp\;<a href="https://www.eventbrite.com/e/fintastic-fish-tickets-637374332787?aff=ebdsoporgprofile">https://www.eventbrite.com/e/fintastic-fish-tickets-637374332787?aff=ebdsoporgprofile</a>
LOCATION:James Farm Ecological Preserve 30048 Cedar Neck Road Ocean View\, DE 19970
UID:e.2126.30111
SEQUENCE:3
DTSTAMP:20260420T091648Z
URL:http://business.thequietresorts.com/events/details/kids-day-fintastic-fish-at-delaware-center-for-the-inland-bays-30111
END:VEVENT

END:VCALENDAR
