BEGIN:VCALENDAR
VERSION:2.0
PRODID:-//ChamberMaster//Event Calendar 2.0//EN
METHOD:PUBLISH
X-PUBLISHED-TTL:P3D
REFRESH-INTERVAL:P3D
CALSCALE:GREGORIAN
BEGIN:VEVENT
DTSTART:20240613T140000Z
DTEND:20240613T160000Z
X-MICROSOFT-CDO-ALLDAYEVENT:FALSE
SUMMARY:Kids Day: Crazy Crabs at Delaware Center for the Inland Bays
DESCRIPTION:What crabs live at the Preserve? Join us to learn more about the native and invasive species we find! For more info\, contact Maddie Fox at mfox@inlandbays.org. Don't forget to register: https://www.eventbrite.com/e/crazy-crabs-tickets-899204744597?aff=erelpanelorg
X-ALT-DESC;FMTTYPE=text/html:What crabs live at the Preserve? Join us to learn more about the native and invasive species we find! For more info\, contact Maddie Fox at mfox@inlandbays.org. Don&#39\;t forget to register:&nbsp\;<a href="https://www.eventbrite.com/e/crazy-crabs-tickets-899204744597?aff=erelpanelorg">https://www.eventbrite.com/e/crazy-crabs-tickets-899204744597?aff=erelpanelorg</a>
LOCATION:James Farm Ecological Preserve 30048 Cedar Neck Road Ocean View\, DE 19970
UID:e.2126.30109
SEQUENCE:3
DTSTAMP:20260420T091506Z
URL:http://business.thequietresorts.com/events/details/kids-day-crazy-crabs-at-delaware-center-for-the-inland-bays-30109
END:VEVENT

END:VCALENDAR
