BEGIN:VCALENDAR
VERSION:2.0
PRODID:-//ChamberMaster//Event Calendar 2.0//EN
METHOD:PUBLISH
X-PUBLISHED-TTL:P3D
REFRESH-INTERVAL:P3D
CALSCALE:GREGORIAN
BEGIN:VEVENT
DTSTART:20230413T230000Z
DTEND:20230414T000000Z
X-MICROSOFT-CDO-ALLDAYEVENT:FALSE
SUMMARY:KEVIN BETHEA
DESCRIPTION:Kevin is one of the most sought after corporate entertainers in the country. You may have seen him on CN8   The Comcast Network on the "Your Morning" show. He was also a regular headliner at the Dickens Parlour Theatre located at the Tropicana Casino & Resort in Atlantic City and Monday Night Magic: New York's Longest Running Off-Broadway Magic Show. A native of New Jersey\, Kevin is a full time professional magician/Illusionist with over 30 years of performing experience! He became interested in magic at the young age of seven when he first saw a movie about his soon-to-be childhood idol\, Harry Houdini. It was then that a relative exposed him to the world of sleight of hand\, and soon afterwards he received his first toy magic set. The "magic bug" had bitten him for good.
X-ALT-DESC;FMTTYPE=text/html:<span style="color:rgb(108\, 117\, 125)\; font-family:helvetica\,arial\,sans-serif">Kevin is one of the most sought after corporate entertainers in the country. You may have seen him on CN8 &ndash\; The Comcast Network on the &ldquo\;Your Morning&rdquo\; show. He was also a regular headliner at the Dickens Parlour Theatre located at the Tropicana Casino &amp\; Resort in Atlantic City and Monday Night Magic: New York&rsquo\;s Longest Running Off-Broadway Magic Show. A native of New Jersey\, Kevin is a full time professional magician/Illusionist with over 30 years of performing experience! He became interested in magic at the young age of seven when he first saw a movie about his soon-to-be childhood idol\, Harry Houdini. It was then that a relative exposed him to the world of sleight of hand\, and soon afterwards he received his first toy magic set. The &ldquo\;magic bug&rdquo\; had bitten him for good.</span>
LOCATION:Dickens Parlour Theatre 31810 Good Earth Lane Ocean View\, DE 19970
UID:e.2126.25285
SEQUENCE:3
DTSTAMP:20260421T040320Z
URL:http://business.thequietresorts.com/events/details/kevin-bethea-25285
END:VEVENT

END:VCALENDAR
