BEGIN:VCALENDAR
VERSION:2.0
PRODID:-//ChamberMaster//Event Calendar 2.0//EN
METHOD:PUBLISH
X-PUBLISHED-TTL:P3D
REFRESH-INTERVAL:P3D
CALSCALE:GREGORIAN
BEGIN:VEVENT
DTSTART:20230119T210000Z
DTEND:20230119T230000Z
X-MICROSOFT-CDO-ALLDAYEVENT:FALSE
SUMMARY:Keller Williams Realty- Ribbon Cutting
DESCRIPTION:Join the staff at Keller Williams Realty as they celebrate the opening new location at the Ribbon Cutting Ceremony happening in their offices in Bayside on Thursday\, January 19\, 2023. Festivities will be begin at 4pm with the Ribbon to be cut at 5:00pm. \n\n \n\nRefreshments will be provided!
X-ALT-DESC;FMTTYPE=text/html:<span style="color: rgb(51\, 51\, 51)\; font-family: sans-serif\, Arial\, Verdana\, &quot\;Trebuchet MS&quot\;\; font-size: 13px\; background-color: rgb(255\, 255\, 255)\;">Join the staff at Keller Williams Realty as they celebrate the opening new location at the Ribbon Cutting Ceremony happening in their offices in Bayside on Thursday\, January 19\, 2023. Festivities will be begin at 4pm with the Ribbon to be cut at 5:00pm.&nbsp\;</span><br style="color: rgb(51\, 51\, 51)\; font-family: sans-serif\, Arial\, Verdana\, &quot\;Trebuchet MS&quot\;\; font-size: 13px\;" />\n<span style="color: rgb(51\, 51\, 51)\; font-family: sans-serif\, Arial\, Verdana\, &quot\;Trebuchet MS&quot\;\; font-size: 13px\; background-color: rgb(255\, 255\, 255)\;">&nbsp\;<br />\nRefreshments will be provided!</span>
LOCATION:Keller Williams Realty 31252 Americana Parkway West Selbyville\, DE 19975
UID:e.2126.24989
SEQUENCE:3
DTSTAMP:20260421T111138Z
URL:http://business.thequietresorts.com/events/details/keller-williams-realty-ribbon-cutting-24989
END:VEVENT

END:VCALENDAR
