BEGIN:VCALENDAR
VERSION:2.0
PRODID:-//ChamberMaster//Event Calendar 2.0//EN
METHOD:PUBLISH
X-PUBLISHED-TTL:P3D
REFRESH-INTERVAL:P3D
CALSCALE:GREGORIAN
BEGIN:VEVENT
DTSTART:20200414T170000Z
DTEND:20200414T183000Z
X-MICROSOFT-CDO-ALLDAYEVENT:FALSE
SUMMARY:"Keeping The Lights On" Webinar
DESCRIPTION:Join us for a business resiliency livestream in partnership with America's SBDC\n\n\n\nAn actionable business resiliency plan could mean the difference between business continuity or closure. \n\n\n\nJoin Grow with Google and America's SBDC for a free business resiliency webinar. \n\n\n\n"Keeping the Lights On"\n\n\n\n\n\nRegister here: g.co/grow/keepingthelightson\n\n\n\nThis webinar includes an introduction to a guide to help small business owners prepare to respond quickly and recover from disruptions. Webinar participants will receive the 'Business Resiliency Guide' and a 'Business Resiliency Plan' template they can customize to meet the specific needs of their business.
X-ALT-DESC;FMTTYPE=text/html:<strong><span style="color:#4472C4\;"><span style="font-family:arial\,sans-serif\;"><span style="font-size:12.0pt\;">Join us for a business resiliency livestream in partnership with America&#39\;s SBDC</span></span></span></strong><br />\n<br />\n<strong><span style="font-family:arial\,sans-serif\;"><span style="font-size:12.0pt\;">An actionable business resiliency plan could mean the difference between business continuity or closure.&nbsp\;<br />\n<br />\nJoin Grow with Google and America&#39\;s SBDC for a free business resiliency webinar. </span></span></strong><br />\n<br />\n<strong><span style="font-family:arial\,sans-serif\;"><span style="font-size:12.0pt\;">&quot\;Keeping the Lights On&quot\;<br />\n<br />\n<br />\nRegister here: <span style="color:#4472C4\;"><a href="https://g.co/grow/keepingthelightson"><span style="color:#4472C4\;">g.co/grow/keepingthelightson</span></a></span></span></span></strong><br />\n<br />\n<strong><span style="font-family:arial\,sans-serif\;"><span style="font-size:12.0pt\;">This webinar includes an introduction to a guide to help small business owners prepare to respond quickly and recover from disruptions. Webinar participants will receive the <em>&#39\;Business Resiliency Guide&#39\;</em> and a <em>&#39\;Business Resiliency Plan&#39\;</em> template they can customize to meet the specific needs of their business.</span></span></strong>
LOCATION:
UID:e.2126.21500
SEQUENCE:3
DTSTAMP:20260425T212230Z
URL:http://business.thequietresorts.com/events/details/keeping-the-lights-on-webinar-21500
END:VEVENT

END:VCALENDAR
