BEGIN:VCALENDAR
VERSION:2.0
PRODID:-//ChamberMaster//Event Calendar 2.0//EN
METHOD:PUBLISH
X-PUBLISHED-TTL:P3D
REFRESH-INTERVAL:P3D
CALSCALE:GREGORIAN
BEGIN:VEVENT
DTSTART:20220418T120000Z
DTEND:20220423T190000Z
X-MICROSOFT-CDO-ALLDAYEVENT:FALSE
SUMMARY:"Keep the Quiet Resorts Beautiful" Community Clean-up
DESCRIPTION:Join the Bethany-Fenwick Area Chamber of Commerce in celebrating Earth Month at the "Keep the Quiet Resorts Beautiful" Community Clean-up! In partnership with Keep Delaware Beautiful and Waste Management\, groups and individuals alike are invited to celebrate Earth Day by adopting and cleaning a section of roadway throughout coastal Sussex County. \n\n\n\nBags\, gloves\, and additional equipment will be provided to participants and can be picked up at the following locations beginning April 18th: \n\n	Bethany-Fenwick Area Chamber of Commerce | M-F: 9:00 am - 5:00 pm \n\nWant to be a host site\, cleaning area sponsor\, or a volunteer liason? Contact Connor at info@thequietresorts.com or at 302-539-2100.\n\n\n\n Free disposal is available April 18-23. \n\n\n\nTag photos with #trashchallenge and tag @thequietresorts to show us how much you were able to collect\, and to encourage others to do the same!\n\n\n\nSuggested areas for clean-up \n\n\n	Rt. 1 (Chamber to the Inlet Bridge)\n	Kent Ave.\n	Muddy Neck Rd. / West Ave. \n	Burbage Rd. \n	Parker House Rd. \n	Beaver Dam Rd. \n	Jefferson Bridge Rd.\n	Burton Farm Rd. \n	Dirickson Creek Rd. \n	Omar Rd.\n\nAdditional Community Clean Up Events\n\n\n	Rt. 54 Community Clean Up: Saturday\, April 16 from 9:00 am - 1:00 pm
X-ALT-DESC;FMTTYPE=text/html:<span style="font-size: 14px\;"><span style="font-family: arial\;">Join the Bethany-Fenwick Area Chamber of Commerce in celebrating Earth Month at the &quot\;Keep the Quiet Resorts Beautiful&quot\; Community Clean-up! In partnership with Keep Delaware Beautiful and Waste Management\, groups and individuals alike are invited to celebrate Earth Day by adopting and cleaning a section of roadway throughout coastal Sussex County.&nbsp\;</span></span><br />\n<br />\n<span style="font-size: 14px\;"><span style="font-family: arial\;">Bags\, gloves\, and additional equipment will be provided to participants and can be picked up at the following locations&nbsp\;<span style="color: rgb(29\, 33\, 41)\; white-space: pre-wrap\;">beginning</span> April 18th:&nbsp\;</span></span>\n<ul>\n	<li><span style="font-size: 14px\;"><span style="font-family: arial\;">Bethany-Fenwick Area Chamber of Commerce | M-F: 9:00 am - 5:00 pm<span style="font-size: 14px\;"><span style="font-family: arial\;"> </span></span></span></span></li>\n</ul>\n<span style="font-family:arial\;"><span style="font-size:14px\;">Want to be a host site\, cleaning area sponsor\, or a volunteer liason? Contact Connor at info@thequietresorts.com or at 302-539-2100.</span></span><br />\n<br />\n<span style="font-size:14px\;"><span style="font-family: arial\;"><strong>&#8203\;</strong><span style="color: rgb(29\, 33\, 41)\; white-space: pre-wrap\;"><strong>Free disposal </strong>is available April 18-23. </span></span></span><br />\n<br />\n<span style="font-size:14px\;"><strong>Tag photos with #trashchallenge and tag @thequietresorts to show us how much you were able to collect\, and to encourage others to do the same!<br />\n<br />\n<span style="font-family:arial\;">Suggested areas for clean-up&nbsp\;</span></strong></span>\n\n<ul>\n	<li><span style="font-size:14px\;"><span style="font-family:arial\;">Rt. 1 (Chamber to the Inlet Bridge)</span></span></li>\n	<li><span style="font-size:14px\;">Kent Ave.</span></li>\n	<li><span style="font-size:14px\;">Muddy Neck Rd. / West Ave.&nbsp\;</span></li>\n	<li><span style="font-size:14px\;">Burbage Rd.&nbsp\;</span></li>\n	<li><span style="font-size:14px\;">Parker House Rd.&nbsp\;</span></li>\n	<li><span style="font-size:14px\;">Beaver Dam Rd.&nbsp\;</span></li>\n	<li><span style="font-size:14px\;">Jefferson Bridge Rd.</span></li>\n	<li><span style="font-size:14px\;">Burton Farm Rd.&nbsp\;</span></li>\n	<li><span style="font-size:14px\;">Dirickson Creek Rd.&nbsp\;</span></li>\n	<li><span style="font-size:14px\;">Omar Rd.</span></li>\n</ul>\n<span style="font-size:14px\;">Additional Community Clean Up Events</span>\n\n<ul>\n	<li><a href="https://www.facebook.com/events/506474871011381/?acontext=%7B%22ref%22%3A%2252%22%2C%22action_history%22%3A%22[%7B%5C%22surface%5C%22%3A%5C%22share_link%5C%22%2C%5C%22mechanism%5C%22%3A%5C%22share_link%5C%22%2C%5C%22extra_data%5C%22%3A%7B%5C%22invite_link_id%5C%22%3A1191714218233347%7D%7D]%22%7D" target="_blank"><span style="font-family:arial\;"><span style="font-size:14px\;">Rt. 54 Community Clean Up</span></span></a>:&nbsp\;<span style="font-family:arial\;"><span style="font-size:14px\;">Saturday\, April 16 from 9:00 am - 1:00 pm</span></span></li>\n</ul>\n
LOCATION:Throughout coastal Sussex County
UID:e.2126.23576
SEQUENCE:3
DTSTAMP:20260422T015850Z
URL:http://business.thequietresorts.com/events/details/keep-the-quiet-resorts-beautiful-community-clean-up-23576
END:VEVENT

END:VCALENDAR
