BEGIN:VCALENDAR
VERSION:2.0
PRODID:-//ChamberMaster//Event Calendar 2.0//EN
METHOD:PUBLISH
X-PUBLISHED-TTL:P3D
REFRESH-INTERVAL:P3D
CALSCALE:GREGORIAN
BEGIN:VEVENT
DTSTART:20200829T000000Z
DTEND:20200829T020000Z
X-MICROSOFT-CDO-ALLDAYEVENT:FALSE
SUMMARY:Kategory 5 Band: Rewind to Vinyl Tribute Show
DESCRIPTION:All of the songs you loved from the radio from 1968-84 performed note for note in a true stadium-quality show! Six singers\, full harmonies\, Classic rock\, progressive rock\, pop and one-hit wonders!
X-ALT-DESC;FMTTYPE=text/html:<span style="font-size: 14px\;"><span style="font-family: arial\;">All of the songs you loved from the radio from 1968-84 performed note for note in a true stadium-quality show! Six singers\, full harmonies\, Classic rock\, progressive rock\, pop and one-hit wonders!</span></span>
LOCATION:The Freeman Stage 31750 Lake View Drive Selbyville\, DE 19975
UID:e.2126.21746
SEQUENCE:3
DTSTAMP:20260425T145557Z
URL:http://business.thequietresorts.com/events/details/kategory-5-band-rewind-to-vinyl-tribute-show-21746
END:VEVENT

END:VCALENDAR
