BEGIN:VCALENDAR
VERSION:2.0
PRODID:-//ChamberMaster//Event Calendar 2.0//EN
METHOD:PUBLISH
X-PUBLISHED-TTL:P3D
REFRESH-INTERVAL:P3D
CALSCALE:GREGORIAN
BEGIN:VEVENT
DTSTART:20221015T220000Z
DTEND:20221015T230000Z
X-MICROSOFT-CDO-ALLDAYEVENT:FALSE
SUMMARY:Kategory 5
DESCRIPTION:Kategory 5 is a rock band offering a rewind to vinyl.  Hear the best of classic rock\, rhythm & blues\, and pop music from the '70s and '80s performed by this 2017 Philadelphia 102.9 WMGK House Band.
X-ALT-DESC;FMTTYPE=text/html:Kategory 5 is a rock band offering a rewind to vinyl. &nbsp\;Hear the best of classic rock\, rhythm &amp\; blues\, and pop music from the &lsquo\;70s and &lsquo\;80s performed by this 2017 Philadelphia 102.9 WMGK House Band.&nbsp\;
LOCATION:Bethany Beach Bandstand
UID:e.2126.24042
SEQUENCE:3
DTSTAMP:20260421T160443Z
URL:http://business.thequietresorts.com/events/details/kategory-5-10-15-2022-24042
END:VEVENT

END:VCALENDAR
