BEGIN:VCALENDAR
VERSION:2.0
PRODID:-//ChamberMaster//Event Calendar 2.0//EN
METHOD:PUBLISH
X-PUBLISHED-TTL:P3D
REFRESH-INTERVAL:P3D
CALSCALE:GREGORIAN
BEGIN:VEVENT
DTSTART:20210701T233000Z
DTEND:20210702T010000Z
X-MICROSOFT-CDO-ALLDAYEVENT:FALSE
SUMMARY:Kategory 5
DESCRIPTION:Kategory 5 is a rock band offering a rewind to vinyl.  Hear the best of classic rock\, rhythm & blues\, and pop music from the '70s and '80s performed by this 2017 Philadelphia 102.9 WMGK House Band.  www.kategory5band.com
X-ALT-DESC;FMTTYPE=text/html:<span style="background-color:rgba(255\, 255\, 255\, 0.95)\; color:rgb(68\, 68\, 68)\; font-family:arial\; font-size:14.4px">Kategory 5 is a rock band offering a rewind to vinyl. &nbsp\;Hear the best of classic rock\, rhythm &amp\; blues\, and pop music from the &lsquo\;70s and &lsquo\;80s performed by this 2017 Philadelphia 102.9 WMGK House Band. &nbsp\;www.kategory5band.com</span>
LOCATION:Bethany Beach Bandstand Garfield Parkway & Boardwalk\, Bethany Beach
UID:e.2126.22565
SEQUENCE:3
DTSTAMP:20260424T172926Z
URL:http://business.thequietresorts.com/events/details/kategory-5-07-01-2021-22565
END:VEVENT

END:VCALENDAR
