BEGIN:VCALENDAR
VERSION:2.0
PRODID:-//ChamberMaster//Event Calendar 2.0//EN
METHOD:PUBLISH
X-PUBLISHED-TTL:P3D
REFRESH-INTERVAL:P3D
CALSCALE:GREGORIAN
BEGIN:VEVENT
DTSTART:20191204T010000Z
DTEND:20191204T040000Z
X-MICROSOFT-CDO-ALLDAYEVENT:FALSE
SUMMARY:KARAOKE at The Salted Rim
DESCRIPTION:KARAOKE \n\n8pm\n\nTuesday Nights\n\nat The Salted Rim with DJ Pat\n\n\n\n \n\nLove to sing?\n\nCome showcase your musical talent and join us for\n\nKaraoke night every Tuesday at\n\nThe Salted Rim in Ocean View\, Delaware\n\n\n\nIt's also TACO TUESDAY   11-9\n\n$10 - 2 Tacos & Drink\n\n(Fish - Chicken - Beef - Shrimp)\n\n(House Margarita (non-frozen)  or House Wine or Domestic Beer Bottle or Draft or Soda)\n\n\n\nCheck out our website http://www.saltedrimde.com/ for all of our weekly events like\, Bingo on Monday's\, Mingo on Wednesday's and Trivia on Thursday's.\n\n\n\nHope to see you there!
X-ALT-DESC;FMTTYPE=text/html:<div style="text-align: center\;"><span style="font-size: 14px\;"><span style="font-family: arial\;"><span style="color: rgb(0\, 0\, 205)\;"><span style="font-size: 20px\;"><strong>KARAOKE</strong>&nbsp\;</span><br />\n8pm<br />\nTuesday Nights<br />\nat The Salted Rim with DJ Pat</span></span></span><br />\n<br />\n&nbsp\;</div>\n\n<div style="text-align: center\;"><span style="font-size: 14px\;"><span style="font-family: arial\;"><span style="color: rgb(0\, 0\, 0)\;">Love to sing?<br />\nCome showcase your musical talent and join us for<br />\nKaraoke night every Tuesday at<br />\nThe Salted Rim in Ocean View\, Delaware</span><br />\n<br />\n<span style="color: rgb(0\, 0\, 255)\;"><strong><span style="font-size: 18px\;">It&#39\;s also TACO TUESDAY&nbsp\; &nbsp\;11-9</span></strong><br />\n<span style="font-size: 16px\;">$10 - 2 Tacos &amp\; Drink</span><br />\n(Fish - Chicken - Beef - Shrimp)<br />\n(House Margarita (non-frozen)&nbsp\; or House Wine or Domestic Beer Bottle or Draft or Soda)</span><br />\n<br />\n<span style="color: rgb(0\, 0\, 0)\;">Check out our website&nbsp\;<a href="http://www.saltedrimde.com/">http://www.saltedrimde.com/</a>&nbsp\;for all of our weekly events like\, Bingo on Monday&#39\;s\, Mingo on Wednesday&#39\;s and Trivia on Thursday&#39\;s.<br />\n<br />\n<strong>Hope to see you there!</strong></span></span></span></div>\n\n<div style="text-align: center\;">&nbsp\;</div>\n
LOCATION:The Salted Rim 27 Atlantic Avenue Ocean View\, DE 19970 302-537-7373
UID:e.2126.17188
SEQUENCE:3
DTSTAMP:20260426T034611Z
URL:http://business.thequietresorts.com/events/details/karaoke-at-the-salted-rim-12-03-2019-17188
END:VEVENT

END:VCALENDAR
