BEGIN:VCALENDAR
VERSION:2.0
PRODID:-//ChamberMaster//Event Calendar 2.0//EN
METHOD:PUBLISH
X-PUBLISHED-TTL:P3D
REFRESH-INTERVAL:P3D
CALSCALE:GREGORIAN
BEGIN:VEVENT
DTSTART:20221001T150000Z
DTEND:20221001T150000Z
X-MICROSOFT-CDO-ALLDAYEVENT:FALSE
SUMMARY:Justin's Beach House Poker\, Scrabble\, Fun Car Rallye #9
DESCRIPTION:Justin's Beach House Poker\, Scrabble and Fun Car Rallye #9\n\n\n\nIt's time to dust off your vehicle for a "Covid free" ride through Sussex Co.\n\nYou'll be drawing a 7-card poker hand\, picking 7 letters for making your best word and answering questions using your observation and deduction skills.\n\n\n\nStarting at HOOKED UP RAW BAR\n\n.\n\nRegister that day between 10 and 11 am.\n\nDrivers' meeting at 11 am\n\nFirst car off at 11:15 am\n\nThis is a rain or shine event!!\n\n\n\nCost is $30 per car. Prizes for top cars.\n\n\n\nAll Rallye proceeds benefit Justin's Beach House. Hooked Up is offering a Dine & Donate to also benefit JBH.\n\n	The Rallye car Must have both a driver and a navigator and be registered to be street driven. Any car or truck will do. \n	The driver must have a valid driver's license.\n	A navigator must be used and should be old enough to read directions / questions and write down answers to the questions.\n	To be fair to everyone\, no more than 2 adults in the vehicle if competing for prizes.\n	All traffic laws and rules of the road must be followed. Safety and courtesy will be required while making turns and searching for clues.
X-ALT-DESC;FMTTYPE=text/html:<span style="font-size:14px\;"><strong>Justin&rsquo\;s Beach House&nbsp\;</strong><strong>Poker\, Scrabble and Fun Car Rallye #9</strong></span><br />\n<br />\n<span style="font-family:arial\;"><span style="font-size:14px\;">It&rsquo\;s time to dust off your vehicle for a &ldquo\;Covid free&rdquo\; ride through Sussex Co.<br />\nYou&rsquo\;ll be drawing a 7-card poker hand\, picking 7 letters for making your best word and answering questions using your observation and deduction skills.<br />\n<br />\nStarting at HOOKED UP RAW BAR<br />\n.<br />\nRegister that day between 10 and 11 am.<br />\nDrivers&rsquo\; meeting at 11 am<br />\nFirst car off at 11:15 am<br />\nThis is a rain or shine event!!<br />\n<br />\nCost is $30 per car. Prizes for top cars.<br />\n<br />\n<strong><em>All Rallye proceeds benefit Justin&rsquo\;s Beach House. Hooked Up is offering a Dine &amp\; Donate to also benefit JBH.</em></strong></span></span>\n<ol>\n	<li><span style="font-family:arial\;"><span style="font-size:14px\;">The Rallye car <u>Must </u>have both a driver and a navigator and be registered to be street driven. <strong><u>Any</u></strong> car or truck will do. </span></span></li>\n	<li><span style="font-family:arial\;"><span style="font-size:14px\;">The driver must have a valid driver&rsquo\;s license.</span></span></li>\n	<li><span style="font-family:arial\;"><span style="font-size:14px\;">A navigator must be used and should be old enough to read directions / questions and write down answers to the questions.</span></span></li>\n	<li><span style="font-family:arial\;"><span style="font-size:14px\;">To be fair to everyone\, no more than 2 adults in the vehicle if competing for prizes.</span></span></li>\n	<li><span style="font-family:arial\;"><span style="font-size:14px\;">All traffic laws and rules of the road must be followed. Safety and courtesy will be required while making turns and searching for clues.</span></span></li>\n</ol>\n
LOCATION:Hooked Up Raw Bar 38069 Town Center Dr Millville\, DE 19967
UID:e.2126.24090
SEQUENCE:3
DTSTAMP:20260421T160737Z
URL:http://business.thequietresorts.com/events/details/justin-s-beach-house-poker-scrabble-fun-car-rallye-9-24090
END:VEVENT

END:VCALENDAR
