BEGIN:VCALENDAR
VERSION:2.0
PRODID:-//ChamberMaster//Event Calendar 2.0//EN
METHOD:PUBLISH
X-PUBLISHED-TTL:P3D
REFRESH-INTERVAL:P3D
CALSCALE:GREGORIAN
BEGIN:VEVENT
DTSTART:20200801T140000Z
DTEND:20200801T150000Z
X-MICROSOFT-CDO-ALLDAYEVENT:FALSE
SUMMARY:Jungle John's Reptile Journey
DESCRIPTION:Liven up with "edu-tainer" Jungle John's Reptile Show! Guinness World Record holder & Ripley's Believe It Or Not! TV personality Jungle John\, along with "Wally Gator" the American alligator\, "Larry" the boa constrictor and his other "friends" have been delighting audiences ages 1-100 since 1988 with this entertaining and educational show! Jungle John presents an educational and fun show\, including the animals mentioned above and about 10-12 others from the reptile and insect world (nothing dangerous or poisonous).
X-ALT-DESC;FMTTYPE=text/html:<span style="font-size: 14px\;"><span style="font-family: arial\;">Liven up with &ldquo\;edu-tainer&rdquo\; Jungle John&rsquo\;s Reptile Show! Guinness World Record holder &amp\; Ripley&rsquo\;s Believe It Or Not! TV personality Jungle John\, along with &ldquo\;Wally Gator&rdquo\; the American alligator\, &ldquo\;Larry&rdquo\; the boa constrictor and his other &ldquo\;friends&rdquo\; have been delighting audiences ages 1-100 since 1988 with this entertaining and educational show! Jungle John presents an educational and fun show\, including the animals mentioned above and about 10-12 others from the reptile and insect world (nothing dangerous or poisonous).</span></span>
LOCATION:The Freeman Stage 31750 Lake View Drive Selbyville\, DE 19975
UID:e.2126.21703
SEQUENCE:3
DTSTAMP:20260425T144954Z
URL:http://business.thequietresorts.com/events/details/jungle-john-s-reptile-journey-21703
END:VEVENT

END:VCALENDAR
