BEGIN:VCALENDAR
VERSION:2.0
PRODID:-//ChamberMaster//Event Calendar 2.0//EN
METHOD:PUBLISH
X-PUBLISHED-TTL:P3D
REFRESH-INTERVAL:P3D
CALSCALE:GREGORIAN
BEGIN:VEVENT
DTSTART;VALUE=DATE:20210730
DTEND;VALUE=DATE:20210731
TRANSP:TRANSPARENT
X-MICROSOFT-CDO-ALLDAYEVENT:TRUE
SUMMARY:Juicebox - 10 Year Anniversary Celebration!
DESCRIPTION:Juicebox is celebrating its 10 Year Anniversary July 28th  through July 30th.\n\n\n\nToday's Happenings\n\n8am - 4pm: Dunk Tank (have fun & cool off!)\n\n12pm - 2pm : Zeke's Coffee tastings & demo\n\n11am - 2pm : Live Music by Reed\n\n\n\nTye Dye stations for kids and adults\n\nNature Scavenger Hunt for the kids\n\n\n\nGiveaway:  Win a $15 Juicebox Gift Card
X-ALT-DESC;FMTTYPE=text/html:<em><strong>Juicebox is celebrating its 10 Year Anniversary July 28th&nbsp\; through July 30th</strong></em>.<br />\n<br />\nToday&#39\;s Happenings<br />\n<strong>8</strong><strong>am - 4pm: Dunk Tank (have fun &amp\; cool off!)</strong><br />\n<strong>12pm - 2pm : Zeke&#39\;s Coffee tastings &amp\; demo<br />\n11am - 2pm : Live Music by Reed</strong><br />\n<br />\nTye Dye stations for kids and adults<br />\nNature Scavenger Hunt for the kids<br />\n<br />\n<strong>Giveaway:&nbsp\; Win a $15 Juicebox Gift Card</strong>
LOCATION:Juicebox 3 Town Rd. Ocean View\, DE 19970
UID:e.2126.22660
SEQUENCE:3
DTSTAMP:20260424T172859Z
URL:http://business.thequietresorts.com/events/details/juicebox-10-year-anniversary-celebration-22660
END:VEVENT

END:VCALENDAR
