BEGIN:VCALENDAR
VERSION:2.0
PRODID:-//ChamberMaster//Event Calendar 2.0//EN
METHOD:PUBLISH
X-PUBLISHED-TTL:P3D
REFRESH-INTERVAL:P3D
CALSCALE:GREGORIAN
BEGIN:VEVENT
DTSTART;VALUE=DATE:20210729
DTEND;VALUE=DATE:20210730
TRANSP:TRANSPARENT
X-MICROSOFT-CDO-ALLDAYEVENT:TRUE
SUMMARY:Juicebox - 10 Year Anniversary Celebration!
DESCRIPTION:Juicebox is celebrating its 10 Year Anniversary July 28th  through July 30th.\n\n\n\nToday's Happenings\n\n10am - 2pm: Free Face Painting\n\n12pm - 2pm : Local Coffee Roasting Co. tastings and coffee talk\n\n\n\nTye Dye stations for kids and adults\n\nNature Scavenger Hunt for the kids\n\n\n\nGiveaway:  Win a Hydroflask
X-ALT-DESC;FMTTYPE=text/html:<em><strong>Juicebox is celebrating its 10 Year Anniversary July 28th&nbsp\; through July 30th</strong></em>.<br />\n<br />\nToday&#39\;s Happenings<br />\n<strong>10am - 2pm: Free Face Painting<br />\n12pm - 2pm : Local Coffee Roasting Co. tastings and coffee talk</strong><br />\n<br />\nTye Dye stations for kids and adults<br />\nNature Scavenger Hunt for the kids<br />\n<br />\n<strong>Giveaway:&nbsp\; Win a Hydroflask</strong>
LOCATION:Juicebox 3 Town Rd. Ocean View\, DE 19970
UID:e.2126.22659
SEQUENCE:3
DTSTAMP:20260424T172859Z
URL:http://business.thequietresorts.com/events/details/juicebox-10-year-anniversary-celebration-22659
END:VEVENT

END:VCALENDAR
