BEGIN:VCALENDAR
VERSION:2.0
PRODID:-//ChamberMaster//Event Calendar 2.0//EN
METHOD:PUBLISH
X-PUBLISHED-TTL:P3D
REFRESH-INTERVAL:P3D
CALSCALE:GREGORIAN
BEGIN:VEVENT
DTSTART;VALUE=DATE:20210728
DTEND;VALUE=DATE:20210729
TRANSP:TRANSPARENT
X-MICROSOFT-CDO-ALLDAYEVENT:TRUE
SUMMARY:Juicebox - 10 Year Anniversary Celebration!
DESCRIPTION:Juicebox is celebrating its 10 Year Anniversary July 28th  through July 30th.\n\n\n\nToday's Happenings\n\n 11am & 2pm - Watermelon Eating Contest\n\nLisa is so excited to host the annual Juicebox Watermelon Eating Contest for kids & adults! Show up 5 minutes prior to the event in order to participate in the challenge!\n\n\n\nTye Dye stations for kids and adults\n\nNature Scavenger Hunt for the kids\n\n\n\nGiveaway:  Win a Juicebox T-Shirt
X-ALT-DESC;FMTTYPE=text/html:<em><strong>Juicebox is celebrating its 10 Year Anniversary July 28th&nbsp\; through July 30th</strong></em>.<br />\n<br />\nToday&#39\;s Happenings<br />\n&#8203\;<strong>11am &amp\; 2pm - Watermelon Eating Contest</strong><br />\nLisa is so excited to host the annual Juicebox Watermelon Eating Contest for kids &amp\; adults! Show up 5 minutes prior to the event in order to participate in the challenge!<br />\n<br />\nTye Dye stations for kids and adults<br />\nNature Scavenger Hunt for the kids<br />\n<br />\n<strong>Giveaway:&nbsp\; Win a Juicebox T-Shirt</strong>
LOCATION:Juicebox 3 Town Rd. Ocean View\, DE 19970
UID:e.2126.22658
SEQUENCE:3
DTSTAMP:20260424T190243Z
URL:http://business.thequietresorts.com/events/details/juicebox-10-year-anniversary-celebration-22658
END:VEVENT

END:VCALENDAR
