BEGIN:VCALENDAR
VERSION:2.0
PRODID:-//ChamberMaster//Event Calendar 2.0//EN
METHOD:PUBLISH
X-PUBLISHED-TTL:P3D
REFRESH-INTERVAL:P3D
CALSCALE:GREGORIAN
BEGIN:VEVENT
DTSTART:20200221T170000Z
DTEND:20200221T190000Z
X-MICROSOFT-CDO-ALLDAYEVENT:FALSE
SUMMARY:Joshua M. Freeman Valor Awards
DESCRIPTION:The Bethany-Fenwick Area Chamber of Commerce is pleased to honor the outstanding police officers\, paramedics\, EMT's and firefighters who help keep our local communities safe throughout the year. The 2020 Joshua M. Freeman Valor Awards presented by the Carl M. Freeman Companies recognizes their service and dedication to our community.\n\n\n\nAttendance for department Chiefs and honorees is complimentary\; guests of awardees\, dignitaries\, and Chamber members are invited to join for $25. \n\n \nLUNCH OPTIONS\n\nSliced top sirloin with wild mushroom demi-glace\n\nPan seared salmon with lemon-dill buerre blanc\n\nGrilled Chicken Alfredo over penne pasta with heirloom cherry tomatoes\n\n \n\nDESSERT\n\nCheesecake with raspberry coulis\n\n\n\nCoffee\, tea\, iced tea and lemonade will be offered\n\n\n\nSponsorship Opportunities\n\nIf you are interested in sponsoring the 2020 Joshua M. Freeman Valor Awards\, please click here.
X-ALT-DESC;FMTTYPE=text/html:<span style="text-align: left\; color: rgb(51\, 51\, 51)\; text-transform: none\; text-indent: 0px\; letter-spacing: normal\; font-family: arial\; font-size: 14px\; font-style: normal\; font-variant: normal\; font-weight: 400\; text-decoration: none\; word-spacing: 0px\; float: none\; display: inline !important\; white-space: normal\; orphans: 2\; background-color: transparent\; -webkit-text-stroke-width: 0px\;">The Bethany-Fenwick Area Chamber of Commerce is pleased to honor the outstanding police officers\, paramedics\, EMT&#39\;s and firefighters who help keep our local communities safe throughout the year. The 2020 Joshua M. Freeman Valor Awards presented by the Carl M. Freeman Companies&nbsp\;recognizes their service and dedication to our community.</span><br style="text-align: left\; color: rgb(51\, 51\, 51)\; text-transform: none\; text-indent: 0px\; letter-spacing: normal\; font-family: arial\; font-size: 14px\; font-style: normal\; font-variant: normal\; font-weight: 400\; text-decoration: none\; word-spacing: 0px\; white-space: normal\; orphans: 2\; background-color: transparent\; -webkit-text-stroke-width: 0px\;" />\n<br style="text-align: left\; color: rgb(51\, 51\, 51)\; text-transform: none\; text-indent: 0px\; letter-spacing: normal\; font-family: arial\; font-size: 14px\; font-style: normal\; font-variant: normal\; font-weight: 400\; text-decoration: none\; word-spacing: 0px\; white-space: normal\; orphans: 2\; background-color: transparent\; -webkit-text-stroke-width: 0px\;" />\n<span style="text-align: left\; color: rgb(51\, 51\, 51)\; text-transform: none\; text-indent: 0px\; letter-spacing: normal\; font-family: arial\; font-size: 14px\; font-style: normal\; font-variant: normal\; font-weight: 400\; text-decoration: none\; word-spacing: 0px\; float: none\; display: inline !important\; white-space: normal\; orphans: 2\; background-color: transparent\; -webkit-text-stroke-width: 0px\;">Attendance for department Chiefs and honorees is complimentary\;&nbsp\;guests of awardees\, dignitaries\, and&nbsp\;Chamber members are invited to join for&nbsp\;$25.&nbsp\;</span><br />\n&nbsp\;\n<div><span style="font-size: 14px\;"><span style="font-family: arial\;"><strong>LUNCH OPTIONS</strong></span></span></div>\n\n<div><span style="font-size: 14px\;"><span style="font-family: arial\;">Sliced top sirloin with wild mushroom demi-glace<br />\nPan seared salmon with lemon-dill buerre blanc<br />\nGrilled Chicken Alfredo over penne pasta with heirloom cherry tomatoes</span></span><br />\n&nbsp\;</div>\n\n<div><span style="font-size: 14px\;"><span style="font-family: arial\;"><strong>DESSERT</strong></span></span></div>\n\n<div><span style="font-size: 14px\;"><span style="font-family: arial\;">Cheesecake with raspberry coulis</span></span><br />\n<br />\n<span style="font-size: 14px\;"><span style="font-family: arial\;"><em>Coffee\, tea\, iced tea and lemonade will be offered</em></span></span><br />\n<br />\n<strong><span style="font-size: 14px\;"><span style="font-family: arial\;">Sponsorship Opportunities</span></span></strong><br />\n<span style="font-size: 14px\;"><span style="font-family: arial\;">If you are interested in sponsoring the 2020 Joshua M. Freeman Valor Awards\, please <strong><a href="https://chambermaster.blob.core.windows.net/userfiles/UserFiles/chambers/2126/File/Valor_Awards/2020Sponsorship-VA.pdf" target="_blank">click here</a></strong>.</span></span></div>\n
LOCATION:The Den at Bear Trap Dunes 7 Club House Drive Ocean View\, DE 19970
UID:e.2126.19417
SEQUENCE:3
DTSTAMP:20260426T003301Z
URL:http://business.thequietresorts.com/events/details/joshua-m-freeman-valor-awards-19417
END:VEVENT

END:VCALENDAR
