BEGIN:VCALENDAR
VERSION:2.0
PRODID:-//ChamberMaster//Event Calendar 2.0//EN
METHOD:PUBLISH
X-PUBLISHED-TTL:P3D
REFRESH-INTERVAL:P3D
CALSCALE:GREGORIAN
BEGIN:VEVENT
DTSTART:20210709T233000Z
DTEND:20210710T010000Z
X-MICROSOFT-CDO-ALLDAYEVENT:FALSE
SUMMARY:Josh Christina
DESCRIPTION:Think of a mix between Jerry Lee Lewis\, Elvis Presley\, and Elton John and you've got Josh Christina. Josh writes his own music\, refurbishes the classics\, and plays a mean piano in a show that bridges generations. www.joshchristinamusic.com
X-ALT-DESC;FMTTYPE=text/html:<span style="background-color:rgba(255\, 255\, 255\, 0.95)\; color:rgb(68\, 68\, 68)\; font-family:arial\; font-size:14.4px">Think of a mix between Jerry Lee Lewis\, Elvis Presley\, and Elton John and you&rsquo\;ve got Josh Christina. </span>Josh&nbsp\;<span style="background-color:rgba(255\, 255\, 255\, 0.95)\; color:rgb(68\, 68\, 68)\; font-family:arial\; font-size:14.4px">writes his own music\, refurbishes the classics\, and plays a mean piano in a show that bridges generations. www.joshchristinamusic.com</span>
LOCATION:Bethany Beach Bandstand Garfield Parkway & Boardwalk\, Bethany Beach
UID:e.2126.22570
SEQUENCE:3
DTSTAMP:20260424T173109Z
URL:http://business.thequietresorts.com/events/details/josh-christina-22570
END:VEVENT

END:VCALENDAR
