BEGIN:VCALENDAR
VERSION:2.0
PRODID:-//ChamberMaster//Event Calendar 2.0//EN
METHOD:PUBLISH
X-PUBLISHED-TTL:P3D
REFRESH-INTERVAL:P3D
CALSCALE:GREGORIAN
BEGIN:VEVENT
DTSTART:20221125T130000Z
DTEND:20221125T220000Z
X-MICROSOFT-CDO-ALLDAYEVENT:FALSE
SUMMARY:Jolly Roger Parks Black Friday Sale
DESCRIPTION:Jolly Roger Parks Black Friday Sale\n\n*50% off 50% off 50%off*\n\nA Maryland Holiday Tradition\n\n\nVisit the SpeedWorld Building at Jolly Roger on 30th St. and kickstart your holiday shopping with 50% off all 2023 park passes and select merchandise! November 25\, 2022 from 8am-5pm\n\n\n\nPurchase passes for the Pier and their 30th St. location\, including SpeedWorld\, Splash Mountain\, and the 30th St Amusement Park. \n\n \n\n**Music and live local coverage from Froggy 99.9 and Ocean 98\, free hot chocolate\, fire pits\, free cookie/pastry!
X-ALT-DESC;FMTTYPE=text/html:<div style="text-align: center\;"><span style="font-size:14px\;"><span style="font-family:arial\;"><strong>Jolly Roger Parks Black Friday Sale<br />\n<em>*50% off 50% off 50%off*</em></strong><br />\n<em><strong>A Maryland Holiday Tradition</strong></em></span></span></div>\n<br />\n<span style="font-size:14px\;"><span style="font-family:arial\;">Visit the SpeedWorld Building at <em><strong>Jolly Roger on 30th St</strong></em>. and kickstart your holiday shopping with <strong>50% off</strong> all 2023 park passes and select merchandise! November 25\, 2022 from 8am-5pm<br />\n<br />\nPurchase passes for the Pier and their 30th St. location\, including SpeedWorld\, Splash Mountain\, and the 30th St Amusement Park.&nbsp\;<br />\n&nbsp\;</span></span>\n\n<div style="text-align: center\;"><span style="font-size:14px\;"><span style="font-family:arial\;"><strong>**Music and live local coverage from Froggy 99.9 and Ocean 98\, free hot chocolate\, fire pits\, free cookie/pastry!</strong></span></span></div>\n
LOCATION:SpeedWorld Building at Jolly Roger 30th St 2901 Philadelphia Ave Ocean City\, MD
UID:e.2126.24862
SEQUENCE:3
DTSTAMP:20260421T142124Z
URL:http://business.thequietresorts.com/events/details/jolly-roger-parks-black-friday-sale-24862
END:VEVENT

END:VCALENDAR
