BEGIN:VCALENDAR
VERSION:2.0
PRODID:-//ChamberMaster//Event Calendar 2.0//EN
METHOD:PUBLISH
X-PUBLISHED-TTL:P3D
REFRESH-INTERVAL:P3D
CALSCALE:GREGORIAN
BEGIN:VEVENT
DTSTART:20220524T130000Z
DTEND:20220524T133000Z
X-MICROSOFT-CDO-ALLDAYEVENT:FALSE
SUMMARY:Join us for Coffee with Aetna
DESCRIPTION:Meeting your small business needs is what we do! Join us for an information session with Aetna to learn more.   \n\n	Challenged with employee retention and recruiting?\n	Interested in promoting cutting edge wellness programs for your employees?\n	Do you need to improve your employee benefits offering or move in the other direction to save money?\n\nThis session is open to small business members of our Delaware Chamber partners. Information shared will be relevant for small business owners with 6  to 100 benefit eligible employees.\n\n\n\nPlease RSVP Today!
X-ALT-DESC;FMTTYPE=text/html:<span style="font-size:small\;"><span style="font-family:open sans\;"><span style="color:#414141\;"><span style="font-family:open sans\,sans-serif\;"><span style="font-size:10.5pt\;">Meeting your small business needs is what we do! Join us for an information session with Aetna to learn more.&nbsp\;&nbsp\; </span></span></span></span></span>\n<ul>\n	<li style="color:#414141\;line-height:15.75pt\;"><em><span style="font-size:small\;"><span style="font-family:open sans\;"><span style="color:#414141\;"><span style="font-family:open sans\,sans-serif\;"><span style="font-size:10.5pt\;">Challenged with employee retention and recruiting?</span></span></span></span></span></em></li>\n	<li style="color:#414141\;line-height:15.75pt\;"><em><span style="font-size:small\;"><span style="font-family:open sans\;"><span style="color:#414141\;"><span style="font-family:open sans\,sans-serif\;"><span style="font-size:10.5pt\;">Interested in promoting cutting edge wellness programs for your employees?</span></span></span></span></span></em></li>\n	<li style="color:#414141\;line-height:15.75pt\;"><em><span style="font-size:small\;"><span style="font-family:open sans\;"><span style="color:#414141\;"><span style="font-family:open sans\,sans-serif\;"><span style="font-size:10.5pt\;">Do you need to improve your employee benefits offering or move in the other direction to save money?</span></span></span></span></span></em></li>\n</ul>\n<span style="font-size:small\;"><span style="font-family:open sans\;"><span style="color:#414141\;"><span style="font-family:open sans\,sans-serif\;"><span style="font-size:10.5pt\;">This session is open to small business members of our Delaware Chamber partners. Information shared will be relevant for small business owners with 6&nbsp\; to 100 benefit eligible employees.</span></span></span></span></span><br />\n<br />\n<span style="font-size:small\;"><span style="font-family:open sans\;"><span style="color:#414141\;"><span style="font-family:open sans\,sans-serif\;"><span style="font-size:10.5pt\;">Please </span></span></span></span></span><strong><u><span style="font-size:small\;"><span style="font-family:open sans\;"><span style="font-family:open sans\,sans-serif\;"><span style="font-size:10.5pt\;"><a href="https://urldefense.proofpoint.com/v2/url?u=https-3A__aetnacca.webex.com_aetnacca_j.php-3FMTID-3Deaa567abdc2e6d51f1c17f980ed0d9822&amp\;d=DwMFAg&amp\;c=euGZstcaTDllvimEN8b7jXrwqOf-v5A_CdpgnVfiiMM&amp\;r=vmimqYVzdYMuEdPgMGQZbmrJDe74cqonHQAphDj54R0&amp\;m=JPlurf-X-JgO4M86ejI9-6hb4ZvM9ZjbaL-GllSUruE&amp\;s=QNfX6kOSzazLrRhXGiARprOII6GMfgxsK19x_gyf7hU&amp\;e="><span style="color:black\;"><span style="color:windowtext\;">RSVP</span></span></a> </span></span></span></span></u></strong><span style="font-size:small\;"><span style="font-family:open sans\;"><span style="color:#414141\;"><span style="font-family:open sans\,sans-serif\;"><span style="font-size:10.5pt\;">Today!</span></span></span></span></span>
LOCATION:VIRTUAL SEMINAR ANNOUNCEMENT
UID:e.2126.23703
SEQUENCE:3
DTSTAMP:20260422T000848Z
URL:http://business.thequietresorts.com/events/details/join-us-for-coffee-with-aetna-23703
END:VEVENT

END:VCALENDAR
