BEGIN:VCALENDAR
VERSION:2.0
PRODID:-//ChamberMaster//Event Calendar 2.0//EN
METHOD:PUBLISH
X-PUBLISHED-TTL:P3D
REFRESH-INTERVAL:P3D
CALSCALE:GREGORIAN
BEGIN:VEVENT
DTSTART:20210726T210000Z
DTEND:20210727T000000Z
X-MICROSOFT-CDO-ALLDAYEVENT:FALSE
SUMMARY:Joe's Bent Spoon Ribbon Cutting & Soft Opening
DESCRIPTION:Join the staff of the Bethany-Fenwick Area Chamber of Commerce at Selbyville's newest eatery\, Joe's Bent Spoon\, as they celebrate their Soft Opening and Ribbon Cutting on Monday July 26th\,  2021 beginning at 5:00pm\n\n\n\nEnjoy a 20% discount on your meal! Bring your family or friends for an enjoyable night out!
X-ALT-DESC;FMTTYPE=text/html:<span style="color: rgb(51\, 51\, 51)\; font-family: sans-serif\, Arial\, Verdana\, &quot\;Trebuchet MS&quot\;\; font-size: 13px\; background-color: rgb(255\, 255\, 255)\;">Join the staff of the Bethany-Fenwick Area Chamber of Commerce at Selbyville&#39\;s newest eatery\, Joe&#39\;s Bent Spoon\, as they celebrate their Soft Opening and Ribbon Cutting on Monday July 26th\,&nbsp\; 2021 beginning at 5:00pm<br />\n<br />\nEnjoy a 20% discount on your meal! Bring your family or friends for an enjoyable night out!</span><br style="color: rgb(51\, 51\, 51)\; font-family: sans-serif\, Arial\, Verdana\, &quot\;Trebuchet MS&quot\;\; font-size: 13px\;" />\n<span style="color: rgb(51\, 51\, 51)\; font-family: sans-serif\, Arial\, Verdana\, &quot\;Trebuchet MS&quot\;\; font-size: 13px\; background-color: rgb(255\, 255\, 255)\;">&nbsp\;</span>
LOCATION:Joe's Bent Spoon 38223 DuPont Blvd Units 14-16 Selbyville\, DE 19975
UID:e.2126.22605
SEQUENCE:3
DTSTAMP:20260424T190438Z
URL:http://business.thequietresorts.com/events/details/joe-s-bent-spoon-ribbon-cutting-soft-opening-22605
END:VEVENT

END:VCALENDAR
