BEGIN:VCALENDAR
VERSION:2.0
PRODID:-//ChamberMaster//Event Calendar 2.0//EN
METHOD:PUBLISH
X-PUBLISHED-TTL:P3D
REFRESH-INTERVAL:P3D
CALSCALE:GREGORIAN
BEGIN:VEVENT
DTSTART:20220729T160000Z
DTEND:20220801T000000Z
X-MICROSOFT-CDO-ALLDAYEVENT:FALSE
SUMMARY:Joe's Bent Spoon Birthday Celebration
DESCRIPTION:Come join us at Joe's Bent Spoon on July 29 - July 31 for our 1 year birthday bash. Enjoy 10% off your bill (alcohol not included)
X-ALT-DESC;FMTTYPE=text/html:<span style="font-family:arial\;"><span style="font-size:14px\;">Come join us at Joe&#39\;s Bent Spoon on July 29 - July 31 for our 1 year birthday bash. Enjoy 10% off your bill (alcohol not included)</span></span>
LOCATION:Joe's Bent Spoon 38223 DuPont Blvd Selbyville\, DE 19944
UID:e.2126.23907
SEQUENCE:3
DTSTAMP:20260421T204638Z
URL:http://business.thequietresorts.com/events/details/joe-s-bent-spoon-birthday-celebration-23907
END:VEVENT

END:VCALENDAR
