BEGIN:VCALENDAR
VERSION:2.0
PRODID:-//ChamberMaster//Event Calendar 2.0//EN
METHOD:PUBLISH
X-PUBLISHED-TTL:P3D
REFRESH-INTERVAL:P3D
CALSCALE:GREGORIAN
BEGIN:VEVENT
DTSTART:20221013T150000Z
DTEND:20221013T180000Z
X-MICROSOFT-CDO-ALLDAYEVENT:FALSE
SUMMARY:Job Fair with the Department of Labor
DESCRIPTION:Job Fair with the Department of Labor
X-ALT-DESC;FMTTYPE=text/html:<span style="font-size:14px\;"><span style="font-family:arial\;">Job Fair with the Department of Labor</span></span><br />\n<br />\n&nbsp\;
LOCATION:Sandhill Fields\, Georgetown
UID:e.2126.24163
SEQUENCE:3
DTSTAMP:20260421T173644Z
URL:http://business.thequietresorts.com/events/details/job-fair-with-the-department-of-labor-24163
END:VEVENT

END:VCALENDAR
