BEGIN:VCALENDAR
VERSION:2.0
PRODID:-//ChamberMaster//Event Calendar 2.0//EN
METHOD:PUBLISH
X-PUBLISHED-TTL:P3D
REFRESH-INTERVAL:P3D
CALSCALE:GREGORIAN
BEGIN:VEVENT
DTSTART;VALUE=DATE:20210723
DTEND;VALUE=DATE:20210724
TRANSP:TRANSPARENT
X-MICROSOFT-CDO-ALLDAYEVENT:TRUE
SUMMARY:Job Fair Open House
DESCRIPTION:Bayside and the Bear Trap Dunes are hiring! They will be hosting an open job fair every Tuesday from 9:00 am - 11:00 am from July 27 - September 28. The job fair will be hosted at the Bayside Welcome Center. Opportunities are available for both full and part-time positions in a variety of fields such as Food & Beverage\, recreation\, golf\, marketing\, cleaning and much more!
X-ALT-DESC;FMTTYPE=text/html:<span style="font-family:arial\;"><span style="font-size:14px\;">Bayside and the Bear Trap Dunes are hiring! They will be hosting an open job fair every Tuesday from 9:00 am - 11:00 am from July 27 - September 28. The job fair will be hosted at the Bayside Welcome Center. Opportunities are available for both full and part-time positions in a variety of fields such as Food &amp\; Beverage\, recreation\, golf\, marketing\, cleaning and much more!</span></span>
LOCATION:Bayside 31252 Americana Pkwy Selbyville\, DE 19975
UID:e.2126.22662
SEQUENCE:3
DTSTAMP:20260424T173141Z
URL:http://business.thequietresorts.com/events/details/job-fair-open-house-22662
END:VEVENT

END:VCALENDAR
