BEGIN:VCALENDAR
VERSION:2.0
PRODID:-//ChamberMaster//Event Calendar 2.0//EN
METHOD:PUBLISH
X-PUBLISHED-TTL:P3D
REFRESH-INTERVAL:P3D
CALSCALE:GREGORIAN
BEGIN:VEVENT
DTSTART:20200911T000000Z
DTEND:20200911T020000Z
X-MICROSOFT-CDO-ALLDAYEVENT:FALSE
SUMMARY:Jimi Smooth & HitTime
DESCRIPTION:Jimi Smooth & HitTime is based out of Washington\, DC. They have a reputation for putting on electrifying shows. Their high level of energy and their unique style are both hallmarks of their performance style. Performing regularly at venues and events all over the east coast and beyond\, they have played festivals\, weddings\, corporate events\, universities\, nightclubs\, and concert halls. Their fan base extends far beyond the District. In what was a major highlight of their playing career\, Jimi Smooth Band performed at the White House during a Christmas party for the twin daughters of President George W. Bush. They have also performed at Washington Redskins football games\, Wizards basketball games\, and Nationals baseball games. Serving as the lead singer for Jimi Smooth & HitTime\, Jimi Smooth also known as "Mr. Move & Groove" is the consummate showman. He pours his heart and soul into every show that he gives because he wants everyone who sees him perform to walk away feeling entertained and thrilled. Bringing a rich history and a smooth vibrancy to the microphone\, he has the ability to make any audience call out for an encore as the show ends. He is professional in his demeanor and singular in the way he delivers a song. Jimi Smooth & HitTime is classy\, unique\, & captivating.
X-ALT-DESC;FMTTYPE=text/html:<span style="font-size: 14px\;"><span style="font-family: arial\;">Jimi Smooth &amp\; HitTime is based out of Washington\, DC. They have a reputation for putting on electrifying shows. Their high level of energy and their unique style are both hallmarks of their performance style. Performing regularly at venues and events all over the east coast and beyond\, they have played festivals\, weddings\, corporate events\, universities\, nightclubs\, and concert halls. Their fan base extends far beyond the District. In what was a major highlight of their playing career\, Jimi Smooth Band performed at the White House during a Christmas party for the twin daughters of President George W. Bush. They have also performed at Washington Redskins football games\, Wizards basketball games\, and Nationals baseball games. Serving as the lead singer for Jimi Smooth &amp\; HitTime\, Jimi Smooth also known as &quot\;Mr. Move &amp\; Groove&quot\; is the consummate showman. He pours his heart and soul into every show that he gives because he wants everyone who sees him perform to walk away feeling entertained and thrilled. Bringing a rich history and a smooth vibrancy to the microphone\, he has the ability to make any audience call out for an encore as the show ends. He is professional in his demeanor and singular in the way he delivers a song. Jimi Smooth &amp\; HitTime is classy\, unique\, &amp\; captivating.</span></span>
LOCATION:The Freeman Stage 31750 Lake View Drive Selbyville\, DE 19975
UID:e.2126.21739
SEQUENCE:3
DTSTAMP:20260425T132140Z
URL:http://business.thequietresorts.com/events/details/jimi-smooth-hittime-21739
END:VEVENT

END:VCALENDAR
