BEGIN:VCALENDAR
VERSION:2.0
PRODID:-//ChamberMaster//Event Calendar 2.0//EN
METHOD:PUBLISH
X-PUBLISHED-TTL:P3D
REFRESH-INTERVAL:P3D
CALSCALE:GREGORIAN
BEGIN:VEVENT
DTSTART:20240523T213000Z
DTEND:20240523T223000Z
X-MICROSOFT-CDO-ALLDAYEVENT:FALSE
SUMMARY:Jewelry Series - The Legacy of Jewelry at the Georgetown Public Library
DESCRIPTION:Join us and local jeweler Sergio Palazzo to learn about the legacy of jewelry and more! \n\nThis is a 3 part series on Thursday\, May 23\, 30 and June 6.\n\nRegistration is suggested\, but not required. \n\nhttps://delawarelibraries.libcal.com/event/12108503
X-ALT-DESC;FMTTYPE=text/html:<p>Join us and local jeweler Sergio Palazzo to learn about the legacy of jewelry and more!&nbsp\;</p>\n\n<p>This is a 3 part series on Thursday\, May 23\, 30 and June 6.</p>\n\n<p>Registration is suggested\, but not required.&nbsp\;<br />\nhttps://delawarelibraries.libcal.com/event/12108503</p>\n
LOCATION:Georgetown Public Library 123 West Pine St. Georgetown\, DE 19947
UID:e.2126.28722
SEQUENCE:3
DTSTAMP:20260420T043252Z
URL:http://business.thequietresorts.com/events/details/jewelry-series-the-legacy-of-jewelry-at-the-georgetown-public-library-28722
END:VEVENT

END:VCALENDAR
