BEGIN:VCALENDAR
VERSION:2.0
PRODID:-//ChamberMaster//Event Calendar 2.0//EN
METHOD:PUBLISH
X-PUBLISHED-TTL:P3D
REFRESH-INTERVAL:P3D
CALSCALE:GREGORIAN
BEGIN:VEVENT
DTSTART:20210826T233000Z
DTEND:20210827T010000Z
X-MICROSOFT-CDO-ALLDAYEVENT:FALSE
SUMMARY:Jesse Garron's Tribute to Elvis
DESCRIPTION:Acclaimed as the "closest thing to the King\," this show takes audiences on a musical journey into the concert years when Elvis Presley was the King of Rock & Roll. Garron brings Elvis to life on stage with live musicians\, female backup vocalists\, and a genuine portrayal of Elvis in the height of his career right down to the scarf serenades and standing ovations. www.jessegarron.com
X-ALT-DESC;FMTTYPE=text/html:<span style="background-color:rgba(255\, 255\, 255\, 0.95)\; color:rgb(68\, 68\, 68)\; font-family:arial\; font-size:14.4px">Acclaimed as the &quot\;closest thing to the King\,&quot\; this show takes audiences on a musical journey into the concert years when Elvis Presley was the King of Rock &amp\; Roll. Garron brings Elvis to life on stage with live musicians\, female backup vocalists\, and a genuine portrayal of Elvis in the height of his career right down to the scarf serenades and standing ovations. www.jessegarron.com</span>
LOCATION:Bethany Beach Bandstand Garfield Parkway & Boardwalk\, Bethany Beach
UID:e.2126.22577
SEQUENCE:3
DTSTAMP:20260424T155446Z
URL:http://business.thequietresorts.com/events/details/jesse-garron-s-tribute-to-elvis-08-26-2021-22577
END:VEVENT

END:VCALENDAR
