BEGIN:VCALENDAR
VERSION:2.0
PRODID:-//ChamberMaster//Event Calendar 2.0//EN
METHOD:PUBLISH
X-PUBLISHED-TTL:P3D
REFRESH-INTERVAL:P3D
CALSCALE:GREGORIAN
BEGIN:VEVENT
DTSTART:20220825T233000Z
DTEND:20220826T010000Z
X-MICROSOFT-CDO-ALLDAYEVENT:FALSE
SUMMARY:Jesse Garron's Tribute to Elvis
DESCRIPTION:Acclaimed as the "Closest thing to the King" by fans and venues alike\, this show takes audiences on a musical journey into the concert years when Elvis Presley was the King of Rock & Roll. Garron has been bringing Elvis to life on stage for 25 years and has shared the bill with national acts in venues across America.
X-ALT-DESC;FMTTYPE=text/html:Acclaimed as the &quot\;Closest thing to the King&quot\; by fans and venues alike\, this show takes audiences on a musical journey into the concert years when Elvis Presley was the King of Rock &amp\; Roll. Garron has been bringing Elvis to life on stage for 25 years and has shared the bill with national acts in venues across America.&nbsp\;
LOCATION:Bethany Beach Bandstand
UID:e.2126.23843
SEQUENCE:3
DTSTAMP:20260421T191050Z
URL:http://business.thequietresorts.com/events/details/jesse-garron-s-tribute-to-elvis-08-25-2022-23843
END:VEVENT

END:VCALENDAR
