BEGIN:VCALENDAR
VERSION:2.0
PRODID:-//ChamberMaster//Event Calendar 2.0//EN
METHOD:PUBLISH
X-PUBLISHED-TTL:P3D
REFRESH-INTERVAL:P3D
CALSCALE:GREGORIAN
BEGIN:VEVENT
DTSTART:20200718T000000Z
DTEND:20200718T020000Z
X-MICROSOFT-CDO-ALLDAYEVENT:FALSE
SUMMARY:Jesse Garron's Tribute to Elvis
DESCRIPTION:Jesse Garron possesses the voice\, looks and charisma that made Elvis a superstar and draws audiences in from the minute he walks on stage. Jesse\, backed by live musicians and female vocalists\, performs songs that cross three generations of rock\, pop\, gospel and oldies music\, so the act has universal appeal. This Vegas-style rendition is a consistent fan favorite that has earned a reputation for professionalism as well as countless standing ovations. Jesse is a natural front-man\, interacting with the crowd at all times and signing autographs after the show. You will truly feel like you're at a real Elvis concert.
X-ALT-DESC;FMTTYPE=text/html:<span style="font-size: 14px\;"><span style="font-family: arial\;">Jesse Garron possesses the voice\, looks and charisma that made Elvis a superstar and draws audiences in from the minute he walks on stage. Jesse\, backed by live musicians and female vocalists\, performs songs that cross three generations of rock\, pop\, gospel and oldies music\, so the act has universal appeal. This Vegas-style rendition is a consistent fan favorite that has earned a reputation for professionalism as well as countless standing ovations. Jesse is a natural front-man\, interacting with the crowd at all times and signing autographs after the show. You will truly feel like you&#39\;re at a real Elvis concert.</span></span>
LOCATION:The Freeman Stage 31750 Lake View Drive Selbyville\, DE 19975
UID:e.2126.21691
SEQUENCE:3
DTSTAMP:20260425T163232Z
URL:http://business.thequietresorts.com/events/details/jesse-garron-s-tribute-to-elvis-07-17-2020-21691
END:VEVENT

END:VCALENDAR
