BEGIN:VCALENDAR
VERSION:2.0
PRODID:-//ChamberMaster//Event Calendar 2.0//EN
METHOD:PUBLISH
X-PUBLISHED-TTL:P3D
REFRESH-INTERVAL:P3D
CALSCALE:GREGORIAN
BEGIN:VEVENT
DTSTART;VALUE=DATE:20221101
DTEND;VALUE=DATE:20221128
TRANSP:TRANSPARENT
X-MICROSOFT-CDO-ALLDAYEVENT:TRUE
SUMMARY:Jennifer Carter - Photography & Oils Exhibit in GALLERY E at the Art League of Ocean City
DESCRIPTION:Jennifer has been chosen as Artist in Residence in Gallery E at the Art League of Ocean City for the month of November. Come enjoy Jenn's artistic expressions. Jenn's photography has won RAL Best Photo\, and has been accepted into many juried Art Exhibits! Her oils & watercolors also share her fascination with detail\, light\, & color. In all media\, Jenn's art effervescently reveals what you may have missed. Please visit the Art League's website or contact Jenn for more info. \n\nAlso\, Jenn is a founding member of SEDAST - this is our 26th year for the Studio Tour on Sat. and Sun. 11-12 & 13.
X-ALT-DESC;FMTTYPE=text/html:<div style="background:#eee\;border:1px solid #ccc\;padding:5px 10px\;"><big><span style="color:#000080"><strong>Jennifer has been chosen as Artist in Residence in Gallery E at the Art League of Ocean City for the month of November. Come enjoy Jenn&#39\;s artistic expressions.&nbsp\;</strong></span><strong><span style="font-family:calibri\,sans-serif"><span style="font-size:14.0pt">Jenn&rsquo\;s photography has won RAL Best Photo\, and has been accepted into many juried Art Exhibits! Her oils &amp\; watercolors also share her fascination with detail\, light\, &amp\; color. </span></span><span style="font-family:calibri\,sans-serif"><span style="font-size:14.0pt">In all media\, Jenn&rsquo\;s art effervescently reveals what you may have missed. Please visit the Art League&#39\;s website or contact Jenn for more info.&nbsp\;<br />\nAlso\, Jenn is a founding member of SEDAST - this is our 26th year for the Studio Tour on Sat. and Sun. 11-12 &amp\; 13.&nbsp\;</span></span></strong></big></div>\n
LOCATION:Art League of Ocean City www.ArtLeagueOfOceanCity.org Located in: Little Salisbury Neighborhood Park Address: 502 94th St\, Ocean City\, MD 21842 Hours: Thursday 9AM 4PM Friday (Veterans Day) 9AM 4PM Hours might differ Saturday 11AM 4PM Sunday 11AM 4PM Monday 9AM 4PM Tuesday 9AM 4PM Wednesday 9AM 4PM Phone: (410) 524-9433
UID:e.2126.24855
SEQUENCE:3
DTSTAMP:20260421T142604Z
URL:http://business.thequietresorts.com/events/details/jennifer-carter-photography-oils-exhibit-in-gallery-e-at-the-art-league-of-ocean-city-24855
END:VEVENT

END:VCALENDAR
