BEGIN:VCALENDAR
VERSION:2.0
PRODID:-//ChamberMaster//Event Calendar 2.0//EN
METHOD:PUBLISH
X-PUBLISHED-TTL:P3D
REFRESH-INTERVAL:P3D
CALSCALE:GREGORIAN
BEGIN:VEVENT
DTSTART:20230514T140000Z
DTEND:20230514T180000Z
X-MICROSOFT-CDO-ALLDAYEVENT:FALSE
SUMMARY:Jazz Brunch Buffet
DESCRIPTION:Join us for a relaxing live Jazz Brunch Buffet with the David Libby Trio in the Dickens Parlour Dining room! Mouth-watering entrees prepared by the Good Earth Chef will make for a perfect Sunday while enjoying the sounds of live jazz.
X-ALT-DESC;FMTTYPE=text/html:<p>Join us for a relaxing live Jazz Brunch Buffet with the David Libby Trio in the Dickens Parlour Dining room! Mouth-watering entrees prepared by the Good Earth Chef will make for a perfect Sunday while enjoying the sounds of live jazz.</p>\n
LOCATION:Dickens Parlour Theatre 31810 Good Earth Lane Ocean View\, DE 19970
UID:e.2126.25387
SEQUENCE:3
DTSTAMP:20260421T040320Z
URL:http://business.thequietresorts.com/events/details/jazz-brunch-buffet-25387
END:VEVENT

END:VCALENDAR
