BEGIN:VCALENDAR
VERSION:2.0
PRODID:-//ChamberMaster//Event Calendar 2.0//EN
METHOD:PUBLISH
X-PUBLISHED-TTL:P3D
REFRESH-INTERVAL:P3D
CALSCALE:GREGORIAN
BEGIN:VEVENT
DTSTART:20231217T150000Z
DTEND:20231217T180000Z
X-MICROSOFT-CDO-ALLDAYEVENT:FALSE
SUMMARY:Jazz Brunch Buffet
DESCRIPTION:SUNDAY JAZZ BRUNCH BUFFET\n\n10AM & 12 PM\n\nADULT $42 CHILD $22\n\nJoin us for a relaxing live Jazz Brunch Buffett with the David Libby Trio in the Dickens Parlour Dining room! Mouth-watering food prepared by the Good Earth Chef will make for a perfect Sunday while enjoying the sounds of live jazz.\n\nTwo seating's available 10 AM and 12 PM\,\n\nLive music from 1030-1PM\n\n \n\nMENU\n\n\n	Live Omelet station \n	Scrambled Eggs\n	Bacon\n	Sausage Links\n	Home Fried Red Potatoes\n	Shrimp Cocktail\n	Soup of the Day\n	Salad Bar\n	Muffins\n	Pastries\n	Variety of breads including GF\n	Fresh Fruit\n	Yogurt\n	Granola\n	Coffee\n	Tea\n	Sodas\n\n\n*Price includes non-alcoholic beverages and gratuity.\n\nMake your JAZZ BRUNCH BUFFET reservation today!
X-ALT-DESC;FMTTYPE=text/html:<p><strong>SUNDAY JAZZ BRUNCH BUFFET</strong></p>\n\n<p><strong>10AM &amp\; 12 PM</strong></p>\n\n<p><strong>ADULT&nbsp\;$42&nbsp\;CHILD&nbsp\;$22</strong></p>\n\n<p>Join us for a relaxing live Jazz Brunch Buffett with the David Libby Trio in the Dickens Parlour Dining room! Mouth-watering food prepared by the Good Earth Chef will make for a perfect Sunday while enjoying the sounds of live jazz.</p>\n\n<p>Two seating&rsquo\;s available 10 AM and 12 PM\,</p>\n\n<p>Live music from 1030-1PM</p>\n\n<p>&nbsp\;</p>\n\n<p><strong><u>MENU</u></strong></p>\n\n<ul>\n	<li>Live Omelet station&nbsp\;</li>\n	<li>Scrambled Eggs</li>\n	<li>Bacon</li>\n	<li>Sausage Links</li>\n	<li>Home Fried Red Potatoes</li>\n	<li>Shrimp Cocktail</li>\n	<li>Soup of the Day</li>\n	<li>Salad Bar</li>\n	<li>Muffins</li>\n	<li>Pastries</li>\n	<li>Variety of breads including GF</li>\n	<li>Fresh Fruit</li>\n	<li>Yogurt</li>\n	<li>Granola</li>\n	<li>Coffee</li>\n	<li>Tea</li>\n	<li>Sodas</li>\n</ul>\n\n<p>*Price includes non-alcoholic beverages and gratuity.</p>\n\n<p><strong>Make your&nbsp\;JAZZ BRUNCH BUFFET&nbsp\;reservation today!</strong></p>\n
LOCATION:Dickens Parlour Theatre 31810 Good Earth Lane Ocean View\, DE 19970
UID:e.2126.26629
SEQUENCE:3
DTSTAMP:20260420T152029Z
URL:http://business.thequietresorts.com/events/details/jazz-brunch-buffet-12-17-2023-26629
END:VEVENT

END:VCALENDAR
