BEGIN:VCALENDAR
VERSION:2.0
PRODID:-//ChamberMaster//Event Calendar 2.0//EN
METHOD:PUBLISH
X-PUBLISHED-TTL:P3D
REFRESH-INTERVAL:P3D
CALSCALE:GREGORIAN
BEGIN:VEVENT
DTSTART:20240124T220000Z
DTEND:20240125T000000Z
X-MICROSOFT-CDO-ALLDAYEVENT:FALSE
SUMMARY:January 2024 Business After Hours: Mixer with Coastal Delmarva Chambers
DESCRIPTION:Registration is closed on January 18th\, as max headcount was reached across all participating organizations!\n\n\n\nJoin the Bethany-Fenwick Area Chamber of Commerce on Wednesday\, January 24th\, at Ocean Downs Casino for a Winter Mixer with neighboring coastal Chambers of Commerce across Delmarva:\n\n	The Berlin Chamber of Commerce\n	The Greater Ocean City Chamber of Commerce \n	The Ocean City Hotel-Motel-Restaurant Association (HMRA)\n	The Salisbury Area Chamber of Commerce\n	The Worcester County Chamber of Commerce (formerly the Ocean Pines Chamber of Commerce)\n\nEnjoy an evening of networking while enjoying a complimentary drink\, light appetizers\, and music by Revival Sound Productions.  You may even win big with many fantastic door prizes and $10 in free play from Ocean Downs Casino!
X-ALT-DESC;FMTTYPE=text/html:<span style="color:#FF0000\;"><strong>Registration is closed on January 18th\, as max headcount was reached across all participating organizations!</strong></span><br />\n<br />\nJoin the Bethany-Fenwick Area Chamber of Commerce on Wednesday\, January 24th\, at Ocean Downs Casino for a Winter Mixer with neighboring coastal Chambers of Commerce across Delmarva:\n<ul>\n	<li>The Berlin Chamber of Commerce</li>\n	<li>The Greater Ocean City Chamber of Commerce&nbsp\;</li>\n	<li>The Ocean City Hotel-Motel-Restaurant Association (HMRA)</li>\n	<li>The Salisbury Area Chamber of Commerce</li>\n	<li>The Worcester County Chamber of Commerce (formerly the Ocean Pines Chamber of Commerce)</li>\n</ul>\nEnjoy an evening of networking while enjoying a complimentary drink\, light appetizers\, and music by Revival Sound Productions.&nbsp\; You may even win big with many fantastic door prizes and $10 in free play from Ocean Downs Casino!
LOCATION:Ocean Downs Casino 10218 Racetrack Rd. Berlin\, MD 21811
UID:e.2126.27353
SEQUENCE:3
DTSTAMP:20260420T152148Z
URL:http://business.thequietresorts.com/events/details/january-2024-business-after-hours-mixer-with-coastal-delmarva-chambers-27353
END:VEVENT

END:VCALENDAR
