BEGIN:VCALENDAR
VERSION:2.0
PRODID:-//ChamberMaster//Event Calendar 2.0//EN
METHOD:PUBLISH
X-PUBLISHED-TTL:P3D
REFRESH-INTERVAL:P3D
CALSCALE:GREGORIAN
BEGIN:VEVENT
DTSTART:20230805T140000Z
DTEND:20230805T150000Z
X-MICROSOFT-CDO-ALLDAYEVENT:FALSE
SUMMARY:Jack and the Beanstalk presented by Rehoboth Summer Children's Theatre
DESCRIPTION:ADMISSION: FREE\n\nIn a cloud castle high in the sky\, a grumpy ogre pesters the villagers below with loud music from his enchanted harp and showers of non-golden eggs from his magic hen. The brave young Jack climbs a mysterious beanstalk to stop the Ogre's antics. The quick-witted lad grabs the harp\, the hen and a bag of silver coins\, escaping down the beanstalk. When the Ogre tries to follow (spoiler alert!) there is a delightfully surprising happy ending for all! Two actors play all the characters in this energetic\, imaginative forty-five minute production designed for family audiences of all ages!\n\n \nFreeman Arts Pavilion Young Audience Series receives generous support from PNC Foundation:
X-ALT-DESC;FMTTYPE=text/html:<h6>ADMISSION: FREE</h6>\n\n<div>In a cloud castle high in the sky\, a grumpy ogre pesters the villagers below with loud music from his enchanted harp and showers of non-golden eggs from his magic hen. The brave young Jack climbs a mysterious beanstalk to stop the Ogre&rsquo\;s antics. The quick-witted lad grabs the harp\, the hen and a bag of silver coins\, escaping down the beanstalk. When the Ogre tries to follow (spoiler alert!) there is a delightfully surprising happy ending for all! Two actors play all the characters in this energetic\, imaginative forty-five minute production designed for family audiences of all ages!<br />\n&nbsp\;\n<p>Freeman Arts Pavilion Young Audience Series&nbsp\;receives generous support from PNC Foundation:</p>\n</div>\n
LOCATION:Freeman Arts Pavilion a program of the Joshua M. Freeman Foundation is a champion of the arts on Delmarva\, providing diverse arts performances as well as arts access programs for local schools and the community at large. From June-September the Freeman Arts Pavilion is an open-air performance space showcasing music\, dance\, comedy\, theater\, children's programs\, and free events.
UID:e.2126.26115
SEQUENCE:3
DTSTAMP:20260420T213432Z
URL:http://business.thequietresorts.com/events/details/jack-and-the-beanstalk-presented-by-rehoboth-summer-children-s-theatre-26115
END:VEVENT

END:VCALENDAR
