BEGIN:VCALENDAR
VERSION:2.0
PRODID:-//ChamberMaster//Event Calendar 2.0//EN
METHOD:PUBLISH
X-PUBLISHED-TTL:P3D
REFRESH-INTERVAL:P3D
CALSCALE:GREGORIAN
BEGIN:VEVENT
DTSTART;VALUE=DATE:20240528
DTEND;VALUE=DATE:20240529
TRANSP:TRANSPARENT
X-MICROSOFT-CDO-ALLDAYEVENT:TRUE
SUMMARY:IV Drip Bar and Wellness Center 2 Year Anniversary Open House
DESCRIPTION:Join the IV Drip Bar and Wellness Center for an Open House celebrating their 2 Year Anniversary on Tuesday\, May 28th from 2 PM to 6 PM.\n\n\n\nThe first 20 people to arrive will receive a Free B12 shot. All other services that day will be 10% off.\n\n\n\nThere is free parking on William F Street and behind the building. \n\n\n\nCome by IV Drip Bar\, a premier hydration station\, to learn more about hydration\, their services\, and help them celebrate their 2nd Anniversary!
X-ALT-DESC;FMTTYPE=text/html:Join the IV Drip Bar and Wellness Center for an Open House celebrating their 2 Year Anniversary on Tuesday\, May 28th from 2 PM to 6 PM.<br />\n<br />\nThe first 20 people to arrive will receive a Free B12 shot. All other services that day will be 10% off.<br />\n<br />\nThere is free parking on William F Street and behind the building.&nbsp\;<br />\n<br />\nCome by IV Drip Bar\, a premier hydration station\, to learn more about hydration\, their services\, and help them celebrate their 2nd Anniversary!
LOCATION:IV Drip Barr and Wellness Center 20819 Coastal Hwy. Rehoboth Beach\, DE 19971
UID:e.2126.29916
SEQUENCE:3
DTSTAMP:20260420T042233Z
URL:http://business.thequietresorts.com/events/details/iv-drip-bar-and-wellness-center-2-year-anniversary-open-house-29916
END:VEVENT

END:VCALENDAR
