BEGIN:VCALENDAR
VERSION:2.0
PRODID:-//ChamberMaster//Event Calendar 2.0//EN
METHOD:PUBLISH
X-PUBLISHED-TTL:P3D
REFRESH-INTERVAL:P3D
CALSCALE:GREGORIAN
BEGIN:VEVENT
DTSTART:20221019T170000Z
DTEND:20221019T190000Z
X-MICROSOFT-CDO-ALLDAYEVENT:FALSE
SUMMARY:It's Chamber Day 2022!
DESCRIPTION:It's Chamber Day 2022-Wednesday\, October 19\n\n\n\nDid you know there are over 4000 Chamber of Commerce's in the US?\n\nAn idea that was proposed by President William Taft and founded in 1912!\n\n\n\nThe Bethany Fenwick Area Chamber of Commerce advocates for member businesses\, implements destination events\, and provides opportunities for networking and education while improving member success and enhancing the quality of life in the Quiet Resorts.  We currently serve over 600 members!\n\n\n\nTake Wednesday as an opportunity to stop by and touch base with us and say hello to our staff!  Patrons and residents\, browse our information center. \n\n\n\n*Members please stop by with any business cards\, rack cards\, or promotional items you would love displayed about your business in our visitor center!\n\n\n\nLite refreshments served from 1-3pm
X-ALT-DESC;FMTTYPE=text/html:<span style="font-size:14px\;"><span style="font-family:arial\;"><strong>It&rsquo\;s Chamber Day 2022-Wednesday\, October 19</strong><br />\n<br />\nDid you know there are over 4000 Chamber of Commerce&#39\;s in the US?<br />\nAn idea that was proposed by President William Taft and founded in 1912!<br />\n<br />\nThe Bethany Fenwick Area Chamber of Commerce advocates for member businesses\, implements destination events\, and provides opportunities for networking and education while improving member success and enhancing the quality of life in the Quiet Resorts.&nbsp\; We currently serve over 600 members!<br />\n<br />\n<strong><em>Take Wednesday as an opportunity to stop by and touch base with us and say hello to our staff!&nbsp\; Patrons and residents\, browse our information center.&nbsp\;</em></strong><br />\n<br />\n<strong><em>*Members please stop by with any business cards\, rack cards\, or promotional items you would love displayed about your business in our visitor center!</em></strong><br />\n<br />\n<strong><em>Lite refreshments served from 1-3pm</em></strong></span></span>
LOCATION:Bethany-Fenwick Area Chamber of Commerce 36913 Coastal Hwy Fenwick Island\, DE 19944
UID:e.2126.24501
SEQUENCE:3
DTSTAMP:20260421T160447Z
URL:http://business.thequietresorts.com/events/details/it-s-chamber-day-2022-24501
END:VEVENT

END:VCALENDAR
